BEGIN:VCALENDAR
VERSION:2.0
PRODID:-//eSpace - EPFL Space Center - ECPv6.15.20//NONSGML v1.0//EN
CALSCALE:GREGORIAN
METHOD:PUBLISH
X-ORIGINAL-URL:https://espace.epfl.ch
X-WR-CALDESC:Events for eSpace - EPFL Space Center
REFRESH-INTERVAL;VALUE=DURATION:PT1H
X-Robots-Tag:noindex
X-PUBLISHED-TTL:PT1H
BEGIN:VTIMEZONE
TZID:Europe/Zurich
BEGIN:DAYLIGHT
TZOFFSETFROM:+0100
TZOFFSETTO:+0200
TZNAME:CEST
DTSTART:20220327T010000
END:DAYLIGHT
BEGIN:STANDARD
TZOFFSETFROM:+0200
TZOFFSETTO:+0100
TZNAME:CET
DTSTART:20221030T010000
END:STANDARD
BEGIN:DAYLIGHT
TZOFFSETFROM:+0100
TZOFFSETTO:+0200
TZNAME:CEST
DTSTART:20230326T010000
END:DAYLIGHT
BEGIN:STANDARD
TZOFFSETFROM:+0200
TZOFFSETTO:+0100
TZNAME:CET
DTSTART:20231029T010000
END:STANDARD
BEGIN:DAYLIGHT
TZOFFSETFROM:+0100
TZOFFSETTO:+0200
TZNAME:CEST
DTSTART:20240331T010000
END:DAYLIGHT
BEGIN:STANDARD
TZOFFSETFROM:+0200
TZOFFSETTO:+0100
TZNAME:CET
DTSTART:20241027T010000
END:STANDARD
END:VTIMEZONE
BEGIN:VEVENT
DTSTART;VALUE=DATE:20231002
DTEND;VALUE=DATE:20231007
DTSTAMP:20260424T132056
CREATED:20230817T143716Z
LAST-MODIFIED:20230817T143934Z
UID:10000130-1696204800-1696636799@espace.epfl.ch
SUMMARY:International Astronautical Congress 2023
DESCRIPTION:The International Astronautical Congress is an excellent platform that brings us all together\, united in the face of global challenges and ready to explore the untapped potential of the space for the benefit of the humanity. \nIn 2023\, the global space community will convene in Baku at the International Astronautical Congress once again\, exactly 50 years after Baku hosted the 24th edition of the IAC and became the first and the only city in the region to do so. This\, certainly\, is a major occasion in the history of the space industry development in Azerbaijan\, as it is one of the core priorities of our vision as a country aspiring to foster the formation of regional space ecosystem and strengthen its position as an emerging space nation. \n			\n							REGISTER
URL:https://espace.epfl.ch/event/international-astronautical-congress-2023/
LOCATION:Baku Convention Center\, Tabriz St 130\, Baku\, 9VW8+X5W\, Azerbaijan
CATEGORIES:Conference,Exhibition
ATTACH;FMTTYPE=image/jpeg:https://espace.epfl.ch/wp-content/uploads/2023/08/IAC-2023-banner_K_2023-02-21.jpg
END:VEVENT
BEGIN:VEVENT
DTSTART;TZID=Europe/Zurich:20231011T173000
DTEND;TZID=Europe/Zurich:20231011T183000
DTSTAMP:20260424T132056
CREATED:20230928T125027Z
LAST-MODIFIED:20231110T110824Z
UID:10000142-1697045400-1697049000@espace.epfl.ch
SUMMARY:SWIR/NIR SPAD Image Sensors for LIDAR  and Quantum Imaging Applications\, by prof. Edoardo Charbon
DESCRIPTION:In this talk\, prof. Charbon will review the evolution of solid-state photon counting sensors from avalanche photodiodes (APDs) to silicon photomultipliers (SiPMs) to single-photon avalanche diodes (SPADs). The impact of these sensors on LiDAR has been remarkable\, however\, more innovations are to come with the continuous advance of integrated SPADs and the introduction of powerful computational imaging techniques directly coupled to SPADs/SiPMs. New technologies\, such as 3D-stacking in combination with Ge and InP/InGaAs SPAD sensors\, are accelerating the adoption of SWIR/NIR image sensors\, while enabling new sensing functionalities. Prof. Charbon will conclude the talk with a technological perspective on how all these technologies could come together in low-cost\, computational-intensive image sensors\, for affordable\, yet powerful quantum imaging. \n				\n				\n				\n	Edoardo Charbon (SM’00 F’17) received the Diploma from ETH Zurich\, the M.S. from the University of California at San Diego\, and the Ph.D. from the University of California at Berkeley in 1988\, 1991\, and 1995\, respectively\, all in electrical engineering and EECS. He has consulted with numerous organizations\, including Bosch\, X-Fab\, Texas Instruments\, Maxim\, Sony\, Agilent\, and the Carlyle Group. He was with Cadence Design Systems from 1995 to 2000\, where he was the Architect of the company’s initiative on information hiding for intellectual property protection. In 2000\, he joined Canesta Inc.\, as the Chief Architect\, where he led the development of wireless 3-D CMOS image sensors. \n	Since 2002 he has been a member of the faculty of EPFL\, where is a full professor. From 2008 to 2016 he was with Delft University of Technology’s as Chair of VLSI design. Dr. Charbon has been the driving force behind the creation of deep-submicron CMOS SPAD technology\, which is mass-produced since 2015 and is present in telemeters\, proximity sensors\, and medical diagnostics tools. His interests span from 3-D vision\, LiDAR\, FLIM\, FCS\, NIROT to super-resolution microscopy\, time-resolved Raman spectroscopy\, and cryo-CMOS circuits and systems for quantum computing. He has authored or co-authored over 400 papers and two books\, and he holds 24 patents. Dr. Charbon is the recipient of the 2023 IISS Pioneering Achievement Award\, he is a distinguished visiting scholar of the W. M. Keck Institute for Space at Caltech\, a fellow of the Kavli Institute of Nanoscience Delft\, a distinguished lecturer of the IEEE Photonics Society\, and a fellow of the IEEE.
URL:https://espace.epfl.ch/event/swir-nir-spadedoardo-charbon/
LOCATION:ZOOM
CATEGORIES:Conference,eSpace Seminars,Webinar
ATTACH;FMTTYPE=image/jpeg:https://espace.epfl.ch/wp-content/uploads/2023/09/espace-seminar-edoardo.jpg
END:VEVENT
BEGIN:VEVENT
DTSTART;VALUE=DATE:20231016
DTEND;VALUE=DATE:20231021
DTSTAMP:20260424T132056
CREATED:20230907T072401Z
LAST-MODIFIED:20230907T072837Z
UID:10000133-1697414400-1697846399@espace.epfl.ch
SUMMARY:Clean Space Industry Days 2023
DESCRIPTION:The Clean Space Industry Days (CSID) 2023 is a must-attend event for all space professionals and enthusiasts working on designing and building sustainable space missions! \nThe five-day event will focus on the progress made in the fields of \n\neco-design for space\,\nend-of-life management\,\nactive debris removal and in-orbit servicing\n\nFurthermore\, the CSID will explore ways to consolidate the ESA Zero Debris approach. \n More Info   REGISTER
URL:https://espace.epfl.ch/event/clean-space-industry-days-2023/
LOCATION:ESA ESTEC\, Keplerlaan 1\, Noordwijk\, 2201 AZ\, Netherlands
CATEGORIES:Clean Space,Conference,Workshop
ATTACH;FMTTYPE=image/jpeg:https://espace.epfl.ch/wp-content/uploads/2023/09/2023-CSID-main-illustration.jpg
END:VEVENT
END:VCALENDAR