BEGIN:VCALENDAR
VERSION:2.0
PRODID:-//eSpace - EPFL Space Center - ECPv6.15.20//NONSGML v1.0//EN
CALSCALE:GREGORIAN
METHOD:PUBLISH
X-ORIGINAL-URL:https://espace.epfl.ch
X-WR-CALDESC:Events for eSpace - EPFL Space Center
REFRESH-INTERVAL;VALUE=DURATION:PT1H
X-Robots-Tag:noindex
X-PUBLISHED-TTL:PT1H
BEGIN:VTIMEZONE
TZID:Europe/Zurich
BEGIN:DAYLIGHT
TZOFFSETFROM:+0100
TZOFFSETTO:+0200
TZNAME:CEST
DTSTART:20230326T010000
END:DAYLIGHT
BEGIN:STANDARD
TZOFFSETFROM:+0200
TZOFFSETTO:+0100
TZNAME:CET
DTSTART:20231029T010000
END:STANDARD
BEGIN:DAYLIGHT
TZOFFSETFROM:+0100
TZOFFSETTO:+0200
TZNAME:CEST
DTSTART:20240331T010000
END:DAYLIGHT
BEGIN:STANDARD
TZOFFSETFROM:+0200
TZOFFSETTO:+0100
TZNAME:CET
DTSTART:20241027T010000
END:STANDARD
BEGIN:DAYLIGHT
TZOFFSETFROM:+0100
TZOFFSETTO:+0200
TZNAME:CEST
DTSTART:20250330T010000
END:DAYLIGHT
BEGIN:STANDARD
TZOFFSETFROM:+0200
TZOFFSETTO:+0100
TZNAME:CET
DTSTART:20251026T010000
END:STANDARD
END:VTIMEZONE
BEGIN:VEVENT
DTSTART;TZID=Europe/Zurich:20240319T173000
DTEND;TZID=Europe/Zurich:20240319T183000
DTSTAMP:20260425T032739
CREATED:20240312T130122Z
LAST-MODIFIED:20240320T123644Z
UID:10000152-1710869400-1710873000@espace.epfl.ch
SUMMARY:Integrating Life cycle engineering of Space Systems into the Concurrent Design Process
DESCRIPTION:The application of Life Cycle Engineering (LCE) within the concurrent engineering process presents a viable method for assessing environmental\, social and economic impacts of space missions. Despite the importance of this for embedding sustainability principles into spacecraft design\, the novelty of the concept within the concurrent engineering process has meant that the approach has not yet been widely implemented. In this presentation\, Dr Wilson will discuss his experience and the challenges of applying LCE within a concurrent design setting. Drawing upon examples and case studies\, he will outline the progress being made within this field\, and present key findings that are important takeaways when including LCE as an engineering discipline within concurrent design studies of space systems. \nDr Andrew Ross Wilson is a Lecturer in Environmental Management at Glasgow Caledonian University (GCU). He holds a BSc (Hons) in Environmental Management from GCU and a PhD in Mechanical and Aerospace Engineering from the University of Strathclyde. \nAndrew specialises in space sustainability\, with a particular focus on life cycle assessment\, carbon accounting and energy systems of engineering projects. However\, Andrew’s technical background is in environmental management\, and his work is extremely interdisciplinary. In this regard\, Andrew’s services are often consulted by external parties with regard to the assessment\, mitigation and communication of sustainability issues. This can often vary from being very specific and technical-facing\, to being broad and societal-facing\, and the range of risks\, impacts and decision-making processes in between. Ultimately\, his work aims to inform how society can transition towards a future that is truly sustainable\, as envisaged through the 2030 Agenda for Sustainable Development. \nDue to his contribution to science and technological development\, Andrew was awarded the 2018 Young Scot Environment Award\, designated one of Junior Chamber International’s Ten Outstanding Young Persons of Scotland in 2019\, won the ESA-EISC Space for Sustainability Award 2021\, and was named GCU Alumni of the Year 2022.
URL:https://espace.epfl.ch/event/lca-engineering/
LOCATION:ZOOM
CATEGORIES:Conference,eSpace Seminars
ATTACH;FMTTYPE=image/jpeg:https://espace.epfl.ch/wp-content/uploads/2024/03/espace-seminar-wilson.jpg
END:VEVENT
END:VCALENDAR