BEGIN:VCALENDAR
VERSION:2.0
PRODID:-//eSpace - EPFL Space Center - ECPv6.15.20//NONSGML v1.0//EN
CALSCALE:GREGORIAN
METHOD:PUBLISH
X-ORIGINAL-URL:https://espace.epfl.ch
X-WR-CALDESC:Events for eSpace - EPFL Space Center
REFRESH-INTERVAL;VALUE=DURATION:PT1H
X-Robots-Tag:noindex
X-PUBLISHED-TTL:PT1H
BEGIN:VTIMEZONE
TZID:Europe/Zurich
BEGIN:DAYLIGHT
TZOFFSETFROM:+0100
TZOFFSETTO:+0200
TZNAME:CEST
DTSTART:20240331T010000
END:DAYLIGHT
BEGIN:STANDARD
TZOFFSETFROM:+0200
TZOFFSETTO:+0100
TZNAME:CET
DTSTART:20241027T010000
END:STANDARD
BEGIN:DAYLIGHT
TZOFFSETFROM:+0100
TZOFFSETTO:+0200
TZNAME:CEST
DTSTART:20250330T010000
END:DAYLIGHT
BEGIN:STANDARD
TZOFFSETFROM:+0200
TZOFFSETTO:+0100
TZNAME:CET
DTSTART:20251026T010000
END:STANDARD
BEGIN:DAYLIGHT
TZOFFSETFROM:+0100
TZOFFSETTO:+0200
TZNAME:CEST
DTSTART:20260329T010000
END:DAYLIGHT
BEGIN:STANDARD
TZOFFSETFROM:+0200
TZOFFSETTO:+0100
TZNAME:CET
DTSTART:20261025T010000
END:STANDARD
END:VTIMEZONE
BEGIN:VEVENT
DTSTART;VALUE=DATE:20250630
DTEND;VALUE=DATE:20250705
DTSTAMP:20260425T123409
CREATED:20241209T171101Z
LAST-MODIFIED:20250602T073729Z
UID:10000184-1751241600-1751673599@espace.epfl.ch
SUMMARY:EUCASS 2025 - 11th European Conference for Aerospace Sciences
DESCRIPTION:EUCASS\, the European Conference for AeroSpace Sciences\, was created by European scientists and engineers to improve the vitality of their scientific communication\, the quality of their technical activities and to stimulate exchanges between researchers and industry end-users worldwide. On July 6th\, 2006\, it became an International non-profit association under Belgian law. It is a member of the International Astronautical Federation. \nEUCASS is a long-overdue initiative inspired from the “AIAA SciTech Forum” held annually in the USA. Its aim is to provide a unique and attractive forum for all aerospace research players on the European continent\, only a few hours from home. \n Register here
URL:https://espace.epfl.ch/event/eucass-2025-11th-european-conference-for-aerospace-sciences/
LOCATION:Congress Center Auditorium della Tecnica\, Viale Umberto Tupini\, 65 - Viale dell’Astronomia\, 30\, Rome\, 00144\, Italy
CATEGORIES:Conference
ATTACH;FMTTYPE=image/jpeg:https://espace.epfl.ch/wp-content/uploads/2024/12/eucass-2025.jpg
END:VEVENT
END:VCALENDAR