BEGIN:VCALENDAR
VERSION:2.0
PRODID:-//eSpace - EPFL Space Center - ECPv6.15.20//NONSGML v1.0//EN
CALSCALE:GREGORIAN
METHOD:PUBLISH
X-ORIGINAL-URL:https://espace.epfl.ch
X-WR-CALDESC:Events for eSpace - EPFL Space Center
REFRESH-INTERVAL;VALUE=DURATION:PT1H
X-Robots-Tag:noindex
X-PUBLISHED-TTL:PT1H
BEGIN:VTIMEZONE
TZID:Europe/Zurich
BEGIN:DAYLIGHT
TZOFFSETFROM:+0100
TZOFFSETTO:+0200
TZNAME:CEST
DTSTART:20230326T010000
END:DAYLIGHT
BEGIN:STANDARD
TZOFFSETFROM:+0200
TZOFFSETTO:+0100
TZNAME:CET
DTSTART:20231029T010000
END:STANDARD
BEGIN:DAYLIGHT
TZOFFSETFROM:+0100
TZOFFSETTO:+0200
TZNAME:CEST
DTSTART:20240331T010000
END:DAYLIGHT
BEGIN:STANDARD
TZOFFSETFROM:+0200
TZOFFSETTO:+0100
TZNAME:CET
DTSTART:20241027T010000
END:STANDARD
BEGIN:DAYLIGHT
TZOFFSETFROM:+0100
TZOFFSETTO:+0200
TZNAME:CEST
DTSTART:20250330T010000
END:DAYLIGHT
BEGIN:STANDARD
TZOFFSETFROM:+0200
TZOFFSETTO:+0100
TZNAME:CET
DTSTART:20251026T010000
END:STANDARD
END:VTIMEZONE
BEGIN:VEVENT
DTSTART;TZID=Europe/Zurich:20240515T180000
DTEND;TZID=Europe/Zurich:20240515T213000
DTSTAMP:20260422T155156
CREATED:20240430T080612Z
LAST-MODIFIED:20240501T083004Z
UID:10000159-1715796000-1715808600@espace.epfl.ch
SUMMARY:New Space Forum Exploring New Space Business Opportunities and their Environmental Impact
DESCRIPTION:This forum will not only spotlight business opportunities bridging space and Earth industries but also tackle the pressing challenge of controlling the significant environmental impacts of new space ventures. It's an opportunity to foster sustainable businesses that contribute positively to our planet. \n\n	\n\n\n	\n		\n	The speakers include Dominique Foray\, Professor of Innovation at EPFL; Emmanuelle David\, Executive Director of the EPFL Space Center (eSpace); Maxime Puteaux\,  Space Industry practice leader\, Euroconsult Paris; Luc Piguet\, CEO and co-founder ClearSpace SA; Dr. Peter Guggenbach\, Chief Growth Officer at Swissto12 SA. \n\n	\n\n\n	\n		\n\n			\n							More info and register
URL:https://espace.epfl.ch/event/new-space-forum-exploring-new-space-business-opportunities-and-their-environmental-impact/
LOCATION:IMD-Maersk Mc-Kinney Moller Center\, Chemin de Bellerive 34\, Lausanne\, 1007\, Switzerland
CATEGORIES:Forum,Newspace
ATTACH;FMTTYPE=image/jpeg:https://espace.epfl.ch/wp-content/uploads/2024/04/IMD-alumni-space-event.jpg
END:VEVENT
END:VCALENDAR