BEGIN:VCALENDAR
VERSION:2.0
PRODID:-//eSpace - EPFL Space Center - ECPv6.15.20//NONSGML v1.0//EN
CALSCALE:GREGORIAN
METHOD:PUBLISH
X-WR-CALNAME:eSpace - EPFL Space Center
X-ORIGINAL-URL:https://espace.epfl.ch
X-WR-CALDESC:Events for eSpace - EPFL Space Center
REFRESH-INTERVAL;VALUE=DURATION:PT1H
X-Robots-Tag:noindex
X-PUBLISHED-TTL:PT1H
BEGIN:VTIMEZONE
TZID:Europe/Zurich
BEGIN:DAYLIGHT
TZOFFSETFROM:+0100
TZOFFSETTO:+0200
TZNAME:CEST
DTSTART:20230326T010000
END:DAYLIGHT
BEGIN:STANDARD
TZOFFSETFROM:+0200
TZOFFSETTO:+0100
TZNAME:CET
DTSTART:20231029T010000
END:STANDARD
BEGIN:DAYLIGHT
TZOFFSETFROM:+0100
TZOFFSETTO:+0200
TZNAME:CEST
DTSTART:20240331T010000
END:DAYLIGHT
BEGIN:STANDARD
TZOFFSETFROM:+0200
TZOFFSETTO:+0100
TZNAME:CET
DTSTART:20241027T010000
END:STANDARD
BEGIN:DAYLIGHT
TZOFFSETFROM:+0100
TZOFFSETTO:+0200
TZNAME:CEST
DTSTART:20250330T010000
END:DAYLIGHT
BEGIN:STANDARD
TZOFFSETFROM:+0200
TZOFFSETTO:+0100
TZNAME:CET
DTSTART:20251026T010000
END:STANDARD
BEGIN:DAYLIGHT
TZOFFSETFROM:+0100
TZOFFSETTO:+0200
TZNAME:CEST
DTSTART:20260329T010000
END:DAYLIGHT
BEGIN:STANDARD
TZOFFSETFROM:+0200
TZOFFSETTO:+0100
TZNAME:CET
DTSTART:20261025T010000
END:STANDARD
END:VTIMEZONE
BEGIN:VEVENT
DTSTART;TZID=Europe/Zurich:20251013T130000
DTEND;TZID=Europe/Zurich:20251013T140000
DTSTAMP:20260420T184716
CREATED:20251002T112024Z
LAST-MODIFIED:20251002T114505Z
UID:10000203-1760360400-1760364000@espace.epfl.ch
SUMMARY:Information Session: Space Sustainability Continuing Education Course – Third Edition 2026
DESCRIPTION:EPFL Space Day 2026 – “From Classroom to Cosmos”\nBringing the EPFL Space Community Together \nEPFL’s space ecosystem blends education\, research\, innovation\, and entrepreneurship\, from student projects to orbital missions\, across disciplines. United by a passion for exploration and sustainability\, we aim to inspire the next generation of space pioneers. \nJoin us for exciting presentations during the day with an exhibition area\, including EPFL startups\, student associations and PhDs. \nThis event strengthens connections\, highlights achievements\, and reflects the EPFL Space Center’s mission: to educate\, innovate\, lead in sustainability\, and engage with society. \nLet's bring the EPFL Community together\, from Classroom to Cosmos! \n  \nProgramme\n9:00–9:15 — Welcome Address\nFrom the EPFL Presidency\, Prof. Anna Fontcuberta i Morral \n9:15–9:30 — Opening Remarks\nEmmanuelle David\, EPFL Space Center Executive Director: Introducing “From Classroom to Cosmos” \n9:30–10:15 — Keynote\nDaniel Neuenschwander\, Prof. of Practice \n10:15–10:45 — Coffee Break & Networking\nExhibition area open \n10:45–12:15 — "From Classroom to Cosmos"\nStudent teams present satellite projects\, analog missions\, and more \n12:15–13:15 — Lunch & Networking\nExhibition area open \n13:15–13:45 — Presentation of EPFL Minor in Space Technologies\nCurriculum\, student stories\, career pathways \n13:45–14:00 — EPFL Startups Showcase \n14:00–14:45 — EPFL PhD Lightning Talks\nCutting-edge research with mission or startup potential \n14:45–15:15 — Coffee Break & Networking\nExhibition area open \n15:15–16:45 — Round Table: “Let’s Talk Space! Charting EPFL’s Strategic Vision — From Classroom to Cosmos” \n16:45–17:00 — Closing Remarks\nEmmanuelle David\, EPFL Space Center Executive Director: Reinforcing collaboration and innovation \n\n\n	\n		\n			\n						REGISTRATION
URL:https://espace.epfl.ch/event/information-session-space-sustainability-continuing-education-course-second-edition-2026/
LOCATION:ZOOM
CATEGORIES:Education for professionals,Information session,Space Sustainability
ATTACH;FMTTYPE=image/jpeg:https://espace.epfl.ch/wp-content/uploads/2025/10/Space-sust-2025-oct.jpg
END:VEVENT
BEGIN:VEVENT
DTSTART;TZID=Europe/Zurich:20250127T130000
DTEND;TZID=Europe/Zurich:20250127T140000
DTSTAMP:20260420T184716
CREATED:20250114T154035Z
LAST-MODIFIED:20250115T154131Z
UID:10000185-1737982800-1737986400@espace.epfl.ch
SUMMARY:Information Session: Space Sustainability Continuing Education Course – Second Edition 2025
DESCRIPTION:EPFL Space Day 2026 – “From Classroom to Cosmos”\nBringing the EPFL Space Community Together \nEPFL’s space ecosystem blends education\, research\, innovation\, and entrepreneurship\, from student projects to orbital missions\, across disciplines. United by a passion for exploration and sustainability\, we aim to inspire the next generation of space pioneers. \nJoin us for exciting presentations during the day with an exhibition area\, including EPFL startups\, student associations and PhDs. \nThis event strengthens connections\, highlights achievements\, and reflects the EPFL Space Center’s mission: to educate\, innovate\, lead in sustainability\, and engage with society. \nLet's bring the EPFL Community together\, from Classroom to Cosmos! \n  \nProgramme\n9:00–9:15 — Welcome Address\nFrom the EPFL Presidency\, Prof. Anna Fontcuberta i Morral \n9:15–9:30 — Opening Remarks\nEmmanuelle David\, EPFL Space Center Executive Director: Introducing “From Classroom to Cosmos” \n9:30–10:15 — Keynote\nDaniel Neuenschwander\, Prof. of Practice \n10:15–10:45 — Coffee Break & Networking\nExhibition area open \n10:45–12:15 — "From Classroom to Cosmos"\nStudent teams present satellite projects\, analog missions\, and more \n12:15–13:15 — Lunch & Networking\nExhibition area open \n13:15–13:45 — Presentation of EPFL Minor in Space Technologies\nCurriculum\, student stories\, career pathways \n13:45–14:00 — EPFL Startups Showcase \n14:00–14:45 — EPFL PhD Lightning Talks\nCutting-edge research with mission or startup potential \n14:45–15:15 — Coffee Break & Networking\nExhibition area open \n15:15–16:45 — Round Table: “Let’s Talk Space! Charting EPFL’s Strategic Vision — From Classroom to Cosmos” \n16:45–17:00 — Closing Remarks\nEmmanuelle David\, EPFL Space Center Executive Director: Reinforcing collaboration and innovation \n\n\n	\n		\n			\n						REGISTRATION
URL:https://espace.epfl.ch/event/information-session-space-sustainability-continuing-education-course-second-edition-2025/
LOCATION:ZOOM
CATEGORIES:Education for professionals,Information session,Space Sustainability
ATTACH;FMTTYPE=image/png:https://espace.epfl.ch/wp-content/uploads/2025/01/Space-sus-course-info-session-jan-2025.png
END:VEVENT
BEGIN:VEVENT
DTSTART;TZID=Europe/Zurich:20241203T130000
DTEND;TZID=Europe/Zurich:20241203T140000
DTSTAMP:20260420T184716
CREATED:20241121T094755Z
LAST-MODIFIED:20241121T094755Z
UID:10000181-1733230800-1733234400@espace.epfl.ch
SUMMARY:Information Session: Space Sustainability Continuing Education Course - Second Edition 2025
DESCRIPTION:EPFL Space Day 2026 – “From Classroom to Cosmos”\nBringing the EPFL Space Community Together \nEPFL’s space ecosystem blends education\, research\, innovation\, and entrepreneurship\, from student projects to orbital missions\, across disciplines. United by a passion for exploration and sustainability\, we aim to inspire the next generation of space pioneers. \nJoin us for exciting presentations during the day with an exhibition area\, including EPFL startups\, student associations and PhDs. \nThis event strengthens connections\, highlights achievements\, and reflects the EPFL Space Center’s mission: to educate\, innovate\, lead in sustainability\, and engage with society. \nLet's bring the EPFL Community together\, from Classroom to Cosmos! \n  \nProgramme\n9:00–9:15 — Welcome Address\nFrom the EPFL Presidency\, Prof. Anna Fontcuberta i Morral \n9:15–9:30 — Opening Remarks\nEmmanuelle David\, EPFL Space Center Executive Director: Introducing “From Classroom to Cosmos” \n9:30–10:15 — Keynote\nDaniel Neuenschwander\, Prof. of Practice \n10:15–10:45 — Coffee Break & Networking\nExhibition area open \n10:45–12:15 — "From Classroom to Cosmos"\nStudent teams present satellite projects\, analog missions\, and more \n12:15–13:15 — Lunch & Networking\nExhibition area open \n13:15–13:45 — Presentation of EPFL Minor in Space Technologies\nCurriculum\, student stories\, career pathways \n13:45–14:00 — EPFL Startups Showcase \n14:00–14:45 — EPFL PhD Lightning Talks\nCutting-edge research with mission or startup potential \n14:45–15:15 — Coffee Break & Networking\nExhibition area open \n15:15–16:45 — Round Table: “Let’s Talk Space! Charting EPFL’s Strategic Vision — From Classroom to Cosmos” \n16:45–17:00 — Closing Remarks\nEmmanuelle David\, EPFL Space Center Executive Director: Reinforcing collaboration and innovation \n\n\n	\n		\n			\n						REGISTRATION
URL:https://espace.epfl.ch/event/information-session2-space-sustainability-continuing-education-course-2025/
LOCATION:ZOOM
CATEGORIES:Education for professionals,Information session,Space Sustainability
ATTACH;FMTTYPE=image/jpeg:https://espace.epfl.ch/wp-content/uploads/2024/11/1732024539901.jpg
END:VEVENT
BEGIN:VEVENT
DTSTART;TZID=Europe/Zurich:20241106T130000
DTEND;TZID=Europe/Zurich:20241106T140000
DTSTAMP:20260420T184716
CREATED:20241004T075007Z
LAST-MODIFIED:20241029T085610Z
UID:10000174-1730898000-1730901600@espace.epfl.ch
SUMMARY:Sustainable Space Hub Coffee
DESCRIPTION:EPFL Space Day 2026 – “From Classroom to Cosmos”\nBringing the EPFL Space Community Together \nEPFL’s space ecosystem blends education\, research\, innovation\, and entrepreneurship\, from student projects to orbital missions\, across disciplines. United by a passion for exploration and sustainability\, we aim to inspire the next generation of space pioneers. \nJoin us for exciting presentations during the day with an exhibition area\, including EPFL startups\, student associations and PhDs. \nThis event strengthens connections\, highlights achievements\, and reflects the EPFL Space Center’s mission: to educate\, innovate\, lead in sustainability\, and engage with society. \nLet's bring the EPFL Community together\, from Classroom to Cosmos! \n  \nProgramme\n9:00–9:15 — Welcome Address\nFrom the EPFL Presidency\, Prof. Anna Fontcuberta i Morral \n9:15–9:30 — Opening Remarks\nEmmanuelle David\, EPFL Space Center Executive Director: Introducing “From Classroom to Cosmos” \n9:30–10:15 — Keynote\nDaniel Neuenschwander\, Prof. of Practice \n10:15–10:45 — Coffee Break & Networking\nExhibition area open \n10:45–12:15 — "From Classroom to Cosmos"\nStudent teams present satellite projects\, analog missions\, and more \n12:15–13:15 — Lunch & Networking\nExhibition area open \n13:15–13:45 — Presentation of EPFL Minor in Space Technologies\nCurriculum\, student stories\, career pathways \n13:45–14:00 — EPFL Startups Showcase \n14:00–14:45 — EPFL PhD Lightning Talks\nCutting-edge research with mission or startup potential \n14:45–15:15 — Coffee Break & Networking\nExhibition area open \n15:15–16:45 — Round Table: “Let’s Talk Space! Charting EPFL’s Strategic Vision — From Classroom to Cosmos” \n16:45–17:00 — Closing Remarks\nEmmanuelle David\, EPFL Space Center Executive Director: Reinforcing collaboration and innovation \n\n\n	\n		\n			\n						REGISTRATION
URL:https://espace.epfl.ch/event/sustainable-space-hub-coffee-4/
LOCATION:EPFL PPB 019
CATEGORIES:Informed public,Round Table,Space Sustainability
ATTACH;FMTTYPE=image/jpeg:https://espace.epfl.ch/wp-content/uploads/2024/10/SSH-coffee-poster-611-13.jpg
END:VEVENT
BEGIN:VEVENT
DTSTART;TZID=Europe/Zurich:20241001T130000
DTEND;TZID=Europe/Zurich:20241001T140000
DTSTAMP:20260420T184716
CREATED:20240904T153030Z
LAST-MODIFIED:20240904T153516Z
UID:10000172-1727787600-1727791200@espace.epfl.ch
SUMMARY:Information Session: Space Sustainability Continuing Education Course - Second Edition 2025
DESCRIPTION:EPFL Space Day 2026 – “From Classroom to Cosmos”\nBringing the EPFL Space Community Together \nEPFL’s space ecosystem blends education\, research\, innovation\, and entrepreneurship\, from student projects to orbital missions\, across disciplines. United by a passion for exploration and sustainability\, we aim to inspire the next generation of space pioneers. \nJoin us for exciting presentations during the day with an exhibition area\, including EPFL startups\, student associations and PhDs. \nThis event strengthens connections\, highlights achievements\, and reflects the EPFL Space Center’s mission: to educate\, innovate\, lead in sustainability\, and engage with society. \nLet's bring the EPFL Community together\, from Classroom to Cosmos! \n  \nProgramme\n9:00–9:15 — Welcome Address\nFrom the EPFL Presidency\, Prof. Anna Fontcuberta i Morral \n9:15–9:30 — Opening Remarks\nEmmanuelle David\, EPFL Space Center Executive Director: Introducing “From Classroom to Cosmos” \n9:30–10:15 — Keynote\nDaniel Neuenschwander\, Prof. of Practice \n10:15–10:45 — Coffee Break & Networking\nExhibition area open \n10:45–12:15 — "From Classroom to Cosmos"\nStudent teams present satellite projects\, analog missions\, and more \n12:15–13:15 — Lunch & Networking\nExhibition area open \n13:15–13:45 — Presentation of EPFL Minor in Space Technologies\nCurriculum\, student stories\, career pathways \n13:45–14:00 — EPFL Startups Showcase \n14:00–14:45 — EPFL PhD Lightning Talks\nCutting-edge research with mission or startup potential \n14:45–15:15 — Coffee Break & Networking\nExhibition area open \n15:15–16:45 — Round Table: “Let’s Talk Space! Charting EPFL’s Strategic Vision — From Classroom to Cosmos” \n16:45–17:00 — Closing Remarks\nEmmanuelle David\, EPFL Space Center Executive Director: Reinforcing collaboration and innovation \n\n\n	\n		\n			\n						REGISTRATION
URL:https://espace.epfl.ch/event/information-session-space-sustainability-continuing-education-course-2025/
LOCATION:ZOOM
CATEGORIES:Education for professionals,Information session,Space Sustainability
ATTACH;FMTTYPE=image/jpeg:https://espace.epfl.ch/wp-content/uploads/2024/09/1699619582250-2024-oct.jpg
END:VEVENT
BEGIN:VEVENT
DTSTART;TZID=Europe/Zurich:20240911T130000
DTEND;TZID=Europe/Zurich:20240911T140000
DTSTAMP:20260420T184717
CREATED:20240904T144648Z
LAST-MODIFIED:20241004T091429Z
UID:10000171-1726059600-1726063200@espace.epfl.ch
SUMMARY:Sustainable Space Hub Coffee
DESCRIPTION:EPFL Space Day 2026 – “From Classroom to Cosmos”\nBringing the EPFL Space Community Together \nEPFL’s space ecosystem blends education\, research\, innovation\, and entrepreneurship\, from student projects to orbital missions\, across disciplines. United by a passion for exploration and sustainability\, we aim to inspire the next generation of space pioneers. \nJoin us for exciting presentations during the day with an exhibition area\, including EPFL startups\, student associations and PhDs. \nThis event strengthens connections\, highlights achievements\, and reflects the EPFL Space Center’s mission: to educate\, innovate\, lead in sustainability\, and engage with society. \nLet's bring the EPFL Community together\, from Classroom to Cosmos! \n  \nProgramme\n9:00–9:15 — Welcome Address\nFrom the EPFL Presidency\, Prof. Anna Fontcuberta i Morral \n9:15–9:30 — Opening Remarks\nEmmanuelle David\, EPFL Space Center Executive Director: Introducing “From Classroom to Cosmos” \n9:30–10:15 — Keynote\nDaniel Neuenschwander\, Prof. of Practice \n10:15–10:45 — Coffee Break & Networking\nExhibition area open \n10:45–12:15 — "From Classroom to Cosmos"\nStudent teams present satellite projects\, analog missions\, and more \n12:15–13:15 — Lunch & Networking\nExhibition area open \n13:15–13:45 — Presentation of EPFL Minor in Space Technologies\nCurriculum\, student stories\, career pathways \n13:45–14:00 — EPFL Startups Showcase \n14:00–14:45 — EPFL PhD Lightning Talks\nCutting-edge research with mission or startup potential \n14:45–15:15 — Coffee Break & Networking\nExhibition area open \n15:15–16:45 — Round Table: “Let’s Talk Space! Charting EPFL’s Strategic Vision — From Classroom to Cosmos” \n16:45–17:00 — Closing Remarks\nEmmanuelle David\, EPFL Space Center Executive Director: Reinforcing collaboration and innovation \n\n\n	\n		\n			\n						REGISTRATION
URL:https://espace.epfl.ch/event/sustainable-space-hub-coffee-3/
LOCATION:EPFL Campus Room BC 410
CATEGORIES:Informed public,Round Table,Space Sustainability
ATTACH;FMTTYPE=image/jpeg:https://espace.epfl.ch/wp-content/uploads/2024/09/SSH-coffee-poster-11-09-2024-jpeg.jpg
END:VEVENT
BEGIN:VEVENT
DTSTART;TZID=Europe/Zurich:20240516T081500
DTEND;TZID=Europe/Zurich:20240516T190000
DTSTAMP:20260420T184717
CREATED:20240502T090555Z
LAST-MODIFIED:20240502T090555Z
UID:10000160-1715847300-1715886000@espace.epfl.ch
SUMMARY:Symposium Research & Sustainability
DESCRIPTION:EPFL Space Day 2026 – “From Classroom to Cosmos”\nBringing the EPFL Space Community Together \nEPFL’s space ecosystem blends education\, research\, innovation\, and entrepreneurship\, from student projects to orbital missions\, across disciplines. United by a passion for exploration and sustainability\, we aim to inspire the next generation of space pioneers. \nJoin us for exciting presentations during the day with an exhibition area\, including EPFL startups\, student associations and PhDs. \nThis event strengthens connections\, highlights achievements\, and reflects the EPFL Space Center’s mission: to educate\, innovate\, lead in sustainability\, and engage with society. \nLet's bring the EPFL Community together\, from Classroom to Cosmos! \n  \nProgramme\n9:00–9:15 — Welcome Address\nFrom the EPFL Presidency\, Prof. Anna Fontcuberta i Morral \n9:15–9:30 — Opening Remarks\nEmmanuelle David\, EPFL Space Center Executive Director: Introducing “From Classroom to Cosmos” \n9:30–10:15 — Keynote\nDaniel Neuenschwander\, Prof. of Practice \n10:15–10:45 — Coffee Break & Networking\nExhibition area open \n10:45–12:15 — "From Classroom to Cosmos"\nStudent teams present satellite projects\, analog missions\, and more \n12:15–13:15 — Lunch & Networking\nExhibition area open \n13:15–13:45 — Presentation of EPFL Minor in Space Technologies\nCurriculum\, student stories\, career pathways \n13:45–14:00 — EPFL Startups Showcase \n14:00–14:45 — EPFL PhD Lightning Talks\nCutting-edge research with mission or startup potential \n14:45–15:15 — Coffee Break & Networking\nExhibition area open \n15:15–16:45 — Round Table: “Let’s Talk Space! Charting EPFL’s Strategic Vision — From Classroom to Cosmos” \n16:45–17:00 — Closing Remarks\nEmmanuelle David\, EPFL Space Center Executive Director: Reinforcing collaboration and innovation \n\n\n	\n		\n			\n						REGISTRATION
URL:https://espace.epfl.ch/event/symposium-research-sustainability/
LOCATION:EPFL Campus room RLC E1 240
CATEGORIES:Space Sustainability,Symposium
ATTACH;FMTTYPE=image/jpeg:https://espace.epfl.ch/wp-content/uploads/2024/05/symp_16.05.jpg
END:VEVENT
BEGIN:VEVENT
DTSTART;TZID=Europe/Zurich:20240501T130000
DTEND;TZID=Europe/Zurich:20240501T140000
DTSTAMP:20260420T184717
CREATED:20240408T131927Z
LAST-MODIFIED:20241004T091325Z
UID:10000153-1714568400-1714572000@espace.epfl.ch
SUMMARY:Sustainable Space Hub Coffee
DESCRIPTION:EPFL Space Day 2026 – “From Classroom to Cosmos”\nBringing the EPFL Space Community Together \nEPFL’s space ecosystem blends education\, research\, innovation\, and entrepreneurship\, from student projects to orbital missions\, across disciplines. United by a passion for exploration and sustainability\, we aim to inspire the next generation of space pioneers. \nJoin us for exciting presentations during the day with an exhibition area\, including EPFL startups\, student associations and PhDs. \nThis event strengthens connections\, highlights achievements\, and reflects the EPFL Space Center’s mission: to educate\, innovate\, lead in sustainability\, and engage with society. \nLet's bring the EPFL Community together\, from Classroom to Cosmos! \n  \nProgramme\n9:00–9:15 — Welcome Address\nFrom the EPFL Presidency\, Prof. Anna Fontcuberta i Morral \n9:15–9:30 — Opening Remarks\nEmmanuelle David\, EPFL Space Center Executive Director: Introducing “From Classroom to Cosmos” \n9:30–10:15 — Keynote\nDaniel Neuenschwander\, Prof. of Practice \n10:15–10:45 — Coffee Break & Networking\nExhibition area open \n10:45–12:15 — "From Classroom to Cosmos"\nStudent teams present satellite projects\, analog missions\, and more \n12:15–13:15 — Lunch & Networking\nExhibition area open \n13:15–13:45 — Presentation of EPFL Minor in Space Technologies\nCurriculum\, student stories\, career pathways \n13:45–14:00 — EPFL Startups Showcase \n14:00–14:45 — EPFL PhD Lightning Talks\nCutting-edge research with mission or startup potential \n14:45–15:15 — Coffee Break & Networking\nExhibition area open \n15:15–16:45 — Round Table: “Let’s Talk Space! Charting EPFL’s Strategic Vision — From Classroom to Cosmos” \n16:45–17:00 — Closing Remarks\nEmmanuelle David\, EPFL Space Center Executive Director: Reinforcing collaboration and innovation \n\n\n	\n		\n			\n						REGISTRATION
URL:https://espace.epfl.ch/event/sustainable-space-hub-coffee/
LOCATION:EPFL PPB 019
CATEGORIES:Informed public,Round Table,Space Sustainability
ATTACH;FMTTYPE=image/jpeg:https://espace.epfl.ch/wp-content/uploads/2024/04/SSH-coffee-poster.jpg
END:VEVENT
BEGIN:VEVENT
DTSTART;TZID=Europe/Zurich:20240115T130000
DTEND;TZID=Europe/Zurich:20240115T140000
DTSTAMP:20260420T184717
CREATED:20240108T130256Z
LAST-MODIFIED:20240108T130912Z
UID:10000147-1705323600-1705327200@espace.epfl.ch
SUMMARY:Information Session 2: Space Sustainability Continuing Education Course
DESCRIPTION:EPFL Space Day 2026 – “From Classroom to Cosmos”\nBringing the EPFL Space Community Together \nEPFL’s space ecosystem blends education\, research\, innovation\, and entrepreneurship\, from student projects to orbital missions\, across disciplines. United by a passion for exploration and sustainability\, we aim to inspire the next generation of space pioneers. \nJoin us for exciting presentations during the day with an exhibition area\, including EPFL startups\, student associations and PhDs. \nThis event strengthens connections\, highlights achievements\, and reflects the EPFL Space Center’s mission: to educate\, innovate\, lead in sustainability\, and engage with society. \nLet's bring the EPFL Community together\, from Classroom to Cosmos! \n  \nProgramme\n9:00–9:15 — Welcome Address\nFrom the EPFL Presidency\, Prof. Anna Fontcuberta i Morral \n9:15–9:30 — Opening Remarks\nEmmanuelle David\, EPFL Space Center Executive Director: Introducing “From Classroom to Cosmos” \n9:30–10:15 — Keynote\nDaniel Neuenschwander\, Prof. of Practice \n10:15–10:45 — Coffee Break & Networking\nExhibition area open \n10:45–12:15 — "From Classroom to Cosmos"\nStudent teams present satellite projects\, analog missions\, and more \n12:15–13:15 — Lunch & Networking\nExhibition area open \n13:15–13:45 — Presentation of EPFL Minor in Space Technologies\nCurriculum\, student stories\, career pathways \n13:45–14:00 — EPFL Startups Showcase \n14:00–14:45 — EPFL PhD Lightning Talks\nCutting-edge research with mission or startup potential \n14:45–15:15 — Coffee Break & Networking\nExhibition area open \n15:15–16:45 — Round Table: “Let’s Talk Space! Charting EPFL’s Strategic Vision — From Classroom to Cosmos” \n16:45–17:00 — Closing Remarks\nEmmanuelle David\, EPFL Space Center Executive Director: Reinforcing collaboration and innovation \n\n\n	\n		\n			\n						REGISTRATION
URL:https://espace.epfl.ch/event/information-session-space-sustainability-continuing-education-course-2/
LOCATION:ZOOM
CATEGORIES:Education for professionals,Information session,Space Sustainability
ATTACH;FMTTYPE=image/jpeg:https://espace.epfl.ch/wp-content/uploads/2024/01/1699619582250-2.jpg
END:VEVENT
END:VCALENDAR