BEGIN:VCALENDAR
VERSION:2.0
PRODID:-//eSpace - EPFL Space Center - ECPv6.15.20//NONSGML v1.0//EN
CALSCALE:GREGORIAN
METHOD:PUBLISH
X-WR-CALNAME:eSpace - EPFL Space Center
X-ORIGINAL-URL:https://espace.epfl.ch
X-WR-CALDESC:Events for eSpace - EPFL Space Center
REFRESH-INTERVAL;VALUE=DURATION:PT1H
X-Robots-Tag:noindex
X-PUBLISHED-TTL:PT1H
BEGIN:VTIMEZONE
TZID:Europe/Zurich
BEGIN:DAYLIGHT
TZOFFSETFROM:+0100
TZOFFSETTO:+0200
TZNAME:CEST
DTSTART:20240331T010000
END:DAYLIGHT
BEGIN:STANDARD
TZOFFSETFROM:+0200
TZOFFSETTO:+0100
TZNAME:CET
DTSTART:20241027T010000
END:STANDARD
BEGIN:DAYLIGHT
TZOFFSETFROM:+0100
TZOFFSETTO:+0200
TZNAME:CEST
DTSTART:20250330T010000
END:DAYLIGHT
BEGIN:STANDARD
TZOFFSETFROM:+0200
TZOFFSETTO:+0100
TZNAME:CET
DTSTART:20251026T010000
END:STANDARD
BEGIN:DAYLIGHT
TZOFFSETFROM:+0100
TZOFFSETTO:+0200
TZNAME:CEST
DTSTART:20260329T010000
END:DAYLIGHT
BEGIN:STANDARD
TZOFFSETFROM:+0200
TZOFFSETTO:+0100
TZNAME:CET
DTSTART:20261025T010000
END:STANDARD
BEGIN:DAYLIGHT
TZOFFSETFROM:+0100
TZOFFSETTO:+0200
TZNAME:CEST
DTSTART:20270328T010000
END:DAYLIGHT
BEGIN:STANDARD
TZOFFSETFROM:+0200
TZOFFSETTO:+0100
TZNAME:CET
DTSTART:20271031T010000
END:STANDARD
BEGIN:DAYLIGHT
TZOFFSETFROM:+0100
TZOFFSETTO:+0200
TZNAME:CEST
DTSTART:20280326T010000
END:DAYLIGHT
BEGIN:STANDARD
TZOFFSETFROM:+0200
TZOFFSETTO:+0100
TZNAME:CET
DTSTART:20281029T010000
END:STANDARD
END:VTIMEZONE
BEGIN:VEVENT
DTSTART;VALUE=DATE:20250909
DTEND;VALUE=DATE:20250913
DTSTAMP:20260426T045645
CREATED:20250602T090223Z
LAST-MODIFIED:20250624T064959Z
UID:10000197-1757376000-1757721599@espace.epfl.ch
SUMMARY:12th International Conference on Life Cycle Management
DESCRIPTION:The main objective of this SSH Coffee is to announce the student projects that we will offer for the upcoming spring semester. \nAgenda:\n12:30 – Welcome\, coffee\, cookies & networking13:00 – Summary of recent events and news about space sustainability (MCV2025\, EcoDeltaV spinoff)13:15 –  Announcement of open student projects for spring (semester projects\, master’s theses\, industry internships)13:45 – Q&A and open discussion \nAnd of course\, the now-famous cookies\, baked with love by Marnix Verkammen! \nWe look forward to seeing you\, and having a coffee together!
URL:https://espace.epfl.ch/event/12th-international-conference-on-life-cycle-management/
LOCATION:Lumsa University\, Palermo\, Via Filippo Parlatore\, 65\, Palermo\, 90145\, Italy
CATEGORIES:Conference
ATTACH;FMTTYPE=image/png:https://espace.epfl.ch/wp-content/uploads/2025/06/12th-INTERNATIONAL-CONFERENCE-ON-LIFE-CYCLE-MANAGEMENT.png
END:VEVENT
BEGIN:VEVENT
DTSTART;TZID=Europe/Zurich:20250916T170000
DTEND;TZID=Europe/Zurich:20250916T193000
DTSTAMP:20260426T045645
CREATED:20250821T134958Z
LAST-MODIFIED:20251017T153630Z
UID:10000200-1758042000-1758051000@espace.epfl.ch
SUMMARY:Minor in Space Technologies Pizza Party & Info Session 🍕
DESCRIPTION:The main objective of this SSH Coffee is to announce the student projects that we will offer for the upcoming spring semester. \nAgenda:\n12:30 – Welcome\, coffee\, cookies & networking13:00 – Summary of recent events and news about space sustainability (MCV2025\, EcoDeltaV spinoff)13:15 –  Announcement of open student projects for spring (semester projects\, master’s theses\, industry internships)13:45 – Q&A and open discussion \nAnd of course\, the now-famous cookies\, baked with love by Marnix Verkammen! \nWe look forward to seeing you\, and having a coffee together!
URL:https://espace.epfl.ch/event/minor-in-space-technologies-pizza-party-info-session-%f0%9f%8d%95/
LOCATION:EPFL BC 420\, BC Bulding\, Rue Jean-Daniel-Colladon\, Lausanne\, Vaud\, 1015\, Switzerland
CATEGORIES:Information session
ATTACH;FMTTYPE=image/jpeg:https://espace.epfl.ch/wp-content/uploads/2025/07/pizza-party-sept-16_banner_jpg.jpg
END:VEVENT
BEGIN:VEVENT
DTSTART;VALUE=DATE:20250924
DTEND;VALUE=DATE:20250927
DTSTAMP:20260426T045645
CREATED:20250821T142243Z
LAST-MODIFIED:20250821T142243Z
UID:10000201-1758672000-1758931199@espace.epfl.ch
SUMMARY:European Space Mechanisms and Tribology Symposium (ESMATS 2025)
DESCRIPTION:The main objective of this SSH Coffee is to announce the student projects that we will offer for the upcoming spring semester. \nAgenda:\n12:30 – Welcome\, coffee\, cookies & networking13:00 – Summary of recent events and news about space sustainability (MCV2025\, EcoDeltaV spinoff)13:15 –  Announcement of open student projects for spring (semester projects\, master’s theses\, industry internships)13:45 – Q&A and open discussion \nAnd of course\, the now-famous cookies\, baked with love by Marnix Verkammen! \nWe look forward to seeing you\, and having a coffee together!
URL:https://espace.epfl.ch/event/european-space-mechanisms-and-tribology-symposium-esmats-2025/
LOCATION:Swisstech Convention Center\, Quartier Nord EPFL\, Route Louis-Favre 2\, Ecublens\, Vaud\, 1024\, Switzerland
CATEGORIES:Conference
ATTACH;FMTTYPE=image/jpeg:https://espace.epfl.ch/wp-content/uploads/2025/08/1440x810.jpg
END:VEVENT
BEGIN:VEVENT
DTSTART;VALUE=DATE:20250929
DTEND;VALUE=DATE:20251004
DTSTAMP:20260426T045645
CREATED:20250624T063959Z
LAST-MODIFIED:20250624T070442Z
UID:10000198-1759104000-1759535999@espace.epfl.ch
SUMMARY:IAC 2025
DESCRIPTION:The main objective of this SSH Coffee is to announce the student projects that we will offer for the upcoming spring semester. \nAgenda:\n12:30 – Welcome\, coffee\, cookies & networking13:00 – Summary of recent events and news about space sustainability (MCV2025\, EcoDeltaV spinoff)13:15 –  Announcement of open student projects for spring (semester projects\, master’s theses\, industry internships)13:45 – Q&A and open discussion \nAnd of course\, the now-famous cookies\, baked with love by Marnix Verkammen! \nWe look forward to seeing you\, and having a coffee together!
URL:https://espace.epfl.ch/event/iac-2025/
LOCATION:International Convention Centre Sydney (ICC Sydney)\, 14 Darling Drive\, Sydney\, NSW\, 2000\, Australia
CATEGORIES:Conference
ATTACH;FMTTYPE=image/jpeg:https://espace.epfl.ch/wp-content/uploads/2025/06/IAC-2025-sydney-scaled-1.jpg
END:VEVENT
BEGIN:VEVENT
DTSTART;VALUE=DATE:20251004
DTEND;VALUE=DATE:20251006
DTSTAMP:20260426T045645
CREATED:20250702T081412Z
LAST-MODIFIED:20250811T092929Z
UID:10000199-1759536000-1759708799@espace.epfl.ch
SUMMARY:NASA Space Apps Challenge - Switzerland 2025
DESCRIPTION:The main objective of this SSH Coffee is to announce the student projects that we will offer for the upcoming spring semester. \nAgenda:\n12:30 – Welcome\, coffee\, cookies & networking13:00 – Summary of recent events and news about space sustainability (MCV2025\, EcoDeltaV spinoff)13:15 –  Announcement of open student projects for spring (semester projects\, master’s theses\, industry internships)13:45 – Q&A and open discussion \nAnd of course\, the now-famous cookies\, baked with love by Marnix Verkammen! \nWe look forward to seeing you\, and having a coffee together!
URL:https://espace.epfl.ch/event/nasa-space-apps-challenge-switzerland-2025/
LOCATION:Technopark Luzern\, Platz 4\, Luzern\, 6039 Root D4\, Switzerland
CATEGORIES:hackathon
ATTACH;FMTTYPE=image/png:https://espace.epfl.ch/wp-content/uploads/2025/07/nasa-space-apps.png
END:VEVENT
BEGIN:VEVENT
DTSTART;TZID=Europe/Zurich:20251013T130000
DTEND;TZID=Europe/Zurich:20251013T140000
DTSTAMP:20260426T045645
CREATED:20251002T112024Z
LAST-MODIFIED:20251002T114505Z
UID:10000203-1760360400-1760364000@espace.epfl.ch
SUMMARY:Information Session: Space Sustainability Continuing Education Course – Third Edition 2026
DESCRIPTION:The main objective of this SSH Coffee is to announce the student projects that we will offer for the upcoming spring semester. \nAgenda:\n12:30 – Welcome\, coffee\, cookies & networking13:00 – Summary of recent events and news about space sustainability (MCV2025\, EcoDeltaV spinoff)13:15 –  Announcement of open student projects for spring (semester projects\, master’s theses\, industry internships)13:45 – Q&A and open discussion \nAnd of course\, the now-famous cookies\, baked with love by Marnix Verkammen! \nWe look forward to seeing you\, and having a coffee together!
URL:https://espace.epfl.ch/event/information-session-space-sustainability-continuing-education-course-second-edition-2026/
LOCATION:ZOOM
CATEGORIES:Education for professionals,Information session,Space Sustainability
ATTACH;FMTTYPE=image/jpeg:https://espace.epfl.ch/wp-content/uploads/2025/10/Space-sust-2025-oct.jpg
END:VEVENT
BEGIN:VEVENT
DTSTART;TZID=Europe/Zurich:20251014T123000
DTEND;TZID=Europe/Zurich:20251014T140000
DTSTAMP:20260426T045645
CREATED:20250924T130109Z
LAST-MODIFIED:20251016T114011Z
UID:10000202-1760445000-1760450400@espace.epfl.ch
SUMMARY:6th Sustainable Space Hub Coffee: Summer 2025 space sustainability conferences recap
DESCRIPTION:The main objective of this SSH Coffee is to announce the student projects that we will offer for the upcoming spring semester. \nAgenda:\n12:30 – Welcome\, coffee\, cookies & networking13:00 – Summary of recent events and news about space sustainability (MCV2025\, EcoDeltaV spinoff)13:15 –  Announcement of open student projects for spring (semester projects\, master’s theses\, industry internships)13:45 – Q&A and open discussion \nAnd of course\, the now-famous cookies\, baked with love by Marnix Verkammen! \nWe look forward to seeing you\, and having a coffee together!
URL:https://espace.epfl.ch/event/6th-sustainable-space-hub-coffee-summer-2025-space-sustainability-conferences-recap/
LOCATION:EPFL BC 410\, EPFL - BC 410\, Lausanne\, Vaud\, 1015\, Switzerland
CATEGORIES:Conference,SSH coffee
ATTACH;FMTTYPE=image/png:https://espace.epfl.ch/wp-content/uploads/2025/09/SSH-coffee-poster-16-10-2025.png
END:VEVENT
BEGIN:VEVENT
DTSTART;TZID=Europe/Zurich:20251210T123000
DTEND;TZID=Europe/Zurich:20251210T140000
DTSTAMP:20260426T045645
CREATED:20251106T094938Z
LAST-MODIFIED:20251211T074644Z
UID:10000204-1765369800-1765375200@espace.epfl.ch
SUMMARY:7th Sustainable Space Hub Coffee: student projects proposed for the spring semester
DESCRIPTION:The main objective of this SSH Coffee is to announce the student projects that we will offer for the upcoming spring semester. \nAgenda:\n12:30 – Welcome\, coffee\, cookies & networking13:00 – Summary of recent events and news about space sustainability (MCV2025\, EcoDeltaV spinoff)13:15 –  Announcement of open student projects for spring (semester projects\, master’s theses\, industry internships)13:45 – Q&A and open discussion \nAnd of course\, the now-famous cookies\, baked with love by Marnix Verkammen! \nWe look forward to seeing you\, and having a coffee together!
URL:https://espace.epfl.ch/event/7th-sustainable-space-hub-coffee/
LOCATION:EPFL PPB 019
CATEGORIES:Conference,SSH coffee
ATTACH;FMTTYPE=image/png:https://espace.epfl.ch/wp-content/uploads/2025/11/SSH-coffee-poster-10-12-2025.png
END:VEVENT
BEGIN:VEVENT
DTSTART;TZID=Europe/Zurich:20260216T130000
DTEND;TZID=Europe/Zurich:20260216T143000
DTSTAMP:20260426T045645
CREATED:20260204T084200Z
LAST-MODIFIED:20260204T084200Z
UID:10000208-1771246800-1771252200@espace.epfl.ch
SUMMARY:Aux frontières du cosmos: plongée au coeur des révolutions qui ont façonné l’histoire de l’astrophysique
DESCRIPTION:The main objective of this SSH Coffee is to announce the student projects that we will offer for the upcoming spring semester. \nAgenda:\n12:30 – Welcome\, coffee\, cookies & networking13:00 – Summary of recent events and news about space sustainability (MCV2025\, EcoDeltaV spinoff)13:15 –  Announcement of open student projects for spring (semester projects\, master’s theses\, industry internships)13:45 – Q&A and open discussion \nAnd of course\, the now-famous cookies\, baked with love by Marnix Verkammen! \nWe look forward to seeing you\, and having a coffee together!
URL:https://espace.epfl.ch/event/aux-frontieres-du-cosmos-plongee-au-coeur-des-revolutions-qui-ont-faconne-lhistoire-de-lastrophysique/
LOCATION:EPFL Campus room RLC E1 240
ATTACH;FMTTYPE=image/jpeg:https://espace.epfl.ch/wp-content/uploads/2026/02/1440x810.jpg
END:VEVENT
BEGIN:VEVENT
DTSTART;TZID=Europe/Zurich:20260224T100000
DTEND;TZID=Europe/Zurich:20260224T160000
DTSTAMP:20260426T045645
CREATED:20260128T144253Z
LAST-MODIFIED:20260128T144432Z
UID:10000205-1771927200-1771948800@espace.epfl.ch
SUMMARY:Quantum Sensing for Space Workshop: Commercialization & High-Impact Applications
DESCRIPTION:The main objective of this SSH Coffee is to announce the student projects that we will offer for the upcoming spring semester. \nAgenda:\n12:30 – Welcome\, coffee\, cookies & networking13:00 – Summary of recent events and news about space sustainability (MCV2025\, EcoDeltaV spinoff)13:15 –  Announcement of open student projects for spring (semester projects\, master’s theses\, industry internships)13:45 – Q&A and open discussion \nAnd of course\, the now-famous cookies\, baked with love by Marnix Verkammen! \nWe look forward to seeing you\, and having a coffee together!
URL:https://espace.epfl.ch/event/quantum-sensing-for-space-workshop-commercialization-high-impact-applications/
LOCATION:Park Innovaare\, Parkstrasse 1\, Villigen\, 5234\, Switzerland
CATEGORIES:European Space Agency,Workshop
ATTACH;FMTTYPE=image/jpeg:https://espace.epfl.ch/wp-content/uploads/2026/01/qss.jpg
END:VEVENT
BEGIN:VEVENT
DTSTART;TZID=Europe/Zurich:20260225T170000
DTEND;TZID=Europe/Zurich:20260225T180000
DTSTAMP:20260426T045645
CREATED:20260210T102135Z
LAST-MODIFIED:20260218T081005Z
UID:10000209-1772038800-1772042400@espace.epfl.ch
SUMMARY:EPFL Space Center - Seminar series: Surviving on Mars
DESCRIPTION:The main objective of this SSH Coffee is to announce the student projects that we will offer for the upcoming spring semester. \nAgenda:\n12:30 – Welcome\, coffee\, cookies & networking13:00 – Summary of recent events and news about space sustainability (MCV2025\, EcoDeltaV spinoff)13:15 –  Announcement of open student projects for spring (semester projects\, master’s theses\, industry internships)13:45 – Q&A and open discussion \nAnd of course\, the now-famous cookies\, baked with love by Marnix Verkammen! \nWe look forward to seeing you\, and having a coffee together!
URL:https://espace.epfl.ch/event/epfl-space-center-seminar-series-surviving-on-mars/
LOCATION:EPFL Campus room CM010\, EPFL\, Lausanne\, Switzerland
CATEGORIES:eSpace Seminars
ATTACH;FMTTYPE=image/png:https://espace.epfl.ch/wp-content/uploads/2026/02/espace-seminar-banner-detrell.png
END:VEVENT
BEGIN:VEVENT
DTSTART;TZID=Europe/Zurich:20260310T103000
DTEND;TZID=Europe/Zurich:20260310T120000
DTSTAMP:20260426T045645
CREATED:20260213T095332Z
LAST-MODIFIED:20260223T130014Z
UID:10000211-1773138600-1773144000@espace.epfl.ch
SUMMARY:ESDI Workshop: Space x Data
DESCRIPTION:The main objective of this SSH Coffee is to announce the student projects that we will offer for the upcoming spring semester. \nAgenda:\n12:30 – Welcome\, coffee\, cookies & networking13:00 – Summary of recent events and news about space sustainability (MCV2025\, EcoDeltaV spinoff)13:15 –  Announcement of open student projects for spring (semester projects\, master’s theses\, industry internships)13:45 – Q&A and open discussion \nAnd of course\, the now-famous cookies\, baked with love by Marnix Verkammen! \nWe look forward to seeing you\, and having a coffee together!
URL:https://espace.epfl.ch/event/space-x-data/
LOCATION:ELE117\, EPFL
CATEGORIES:Call for proposals,Symposium,Workshop
ATTACH;FMTTYPE=image/jpeg:https://espace.epfl.ch/wp-content/uploads/2026/02/spaceXdata.jpg
END:VEVENT
BEGIN:VEVENT
DTSTART;TZID=Europe/Zurich:20260312T123000
DTEND;TZID=Europe/Zurich:20260312T140000
DTSTAMP:20260426T045645
CREATED:20260211T140140Z
LAST-MODIFIED:20260218T081609Z
UID:10000210-1773318600-1773324000@espace.epfl.ch
SUMMARY:8th Sustainable Space Hub Coffee
DESCRIPTION:The main objective of this SSH Coffee is to announce the student projects that we will offer for the upcoming spring semester. \nAgenda:\n12:30 – Welcome\, coffee\, cookies & networking13:00 – Summary of recent events and news about space sustainability (MCV2025\, EcoDeltaV spinoff)13:15 –  Announcement of open student projects for spring (semester projects\, master’s theses\, industry internships)13:45 – Q&A and open discussion \nAnd of course\, the now-famous cookies\, baked with love by Marnix Verkammen! \nWe look forward to seeing you\, and having a coffee together!
URL:https://espace.epfl.ch/event/7th-sustainable-space-hub-coffee-2/
LOCATION:EPFL PPB 019
CATEGORIES:Conference,SSH coffee
ATTACH;FMTTYPE=image/png:https://espace.epfl.ch/wp-content/uploads/2026/02/SSH-coffee-poster-12-03-2026.png
END:VEVENT
BEGIN:VEVENT
DTSTART;TZID=Europe/Zurich:20260331T130000
DTEND;TZID=Europe/Zurich:20260331T141500
DTSTAMP:20260426T045645
CREATED:20260312T134912Z
LAST-MODIFIED:20260312T134912Z
UID:10000214-1774962000-1774966500@espace.epfl.ch
SUMMARY:EPFL Space Center – Seminar series: Exploring the Uncommon for the Common Good – Space Biology\, Medicine and Technology
DESCRIPTION:The main objective of this SSH Coffee is to announce the student projects that we will offer for the upcoming spring semester. \nAgenda:\n12:30 – Welcome\, coffee\, cookies & networking13:00 – Summary of recent events and news about space sustainability (MCV2025\, EcoDeltaV spinoff)13:15 –  Announcement of open student projects for spring (semester projects\, master’s theses\, industry internships)13:45 – Q&A and open discussion \nAnd of course\, the now-famous cookies\, baked with love by Marnix Verkammen! \nWe look forward to seeing you\, and having a coffee together!
URL:https://espace.epfl.ch/event/epfl-space-center-seminar-series-exploring-the-uncommon-for-the-common-good-space-biology-medicine-and-technology/
LOCATION:EPFL BC 420\, BC Bulding\, Rue Jean-Daniel-Colladon\, Lausanne\, Vaud\, 1015\, Switzerland
CATEGORIES:Conference,eSpace Seminars,Webinar
ATTACH;FMTTYPE=image/png:https://espace.epfl.ch/wp-content/uploads/2026/03/espace-seminar-banner-CSA-ullrich.png
END:VEVENT
BEGIN:VEVENT
DTSTART;TZID=Europe/Zurich:20260508T090000
DTEND;TZID=Europe/Zurich:20260508T170000
DTSTAMP:20260426T045645
CREATED:20260302T090433Z
LAST-MODIFIED:20260305T144058Z
UID:10000212-1778230800-1778259600@espace.epfl.ch
SUMMARY:EPFL Space Day 2026
DESCRIPTION:The main objective of this SSH Coffee is to announce the student projects that we will offer for the upcoming spring semester. \nAgenda:\n12:30 – Welcome\, coffee\, cookies & networking13:00 – Summary of recent events and news about space sustainability (MCV2025\, EcoDeltaV spinoff)13:15 –  Announcement of open student projects for spring (semester projects\, master’s theses\, industry internships)13:45 – Q&A and open discussion \nAnd of course\, the now-famous cookies\, baked with love by Marnix Verkammen! \nWe look forward to seeing you\, and having a coffee together!
URL:https://espace.epfl.ch/event/epfl-space-day-2026/
LOCATION:Rolex Learning Center\, RLC E1 240\, EPFL Route Cantonale\, Lausanne\, Vaud\, 1015\, Switzerland
CATEGORIES:Conference,Exhibition,Round Table,Space Sustainability
ATTACH;FMTTYPE=image/jpeg:https://espace.epfl.ch/wp-content/uploads/2026/02/space-day-epfl.jpg
END:VEVENT
BEGIN:VEVENT
DTSTART;TZID=Europe/Zurich:20260602T120000
DTEND;TZID=Europe/Zurich:20260602T130000
DTSTAMP:20260426T045645
CREATED:20260423T142213Z
LAST-MODIFIED:20260423T142541Z
UID:10000215-1780401600-1780405200@espace.epfl.ch
SUMMARY:Horizon Europe & ESA Funding Opportunities for Space
DESCRIPTION:The main objective of this SSH Coffee is to announce the student projects that we will offer for the upcoming spring semester. \nAgenda:\n12:30 – Welcome\, coffee\, cookies & networking13:00 – Summary of recent events and news about space sustainability (MCV2025\, EcoDeltaV spinoff)13:15 –  Announcement of open student projects for spring (semester projects\, master’s theses\, industry internships)13:45 – Q&A and open discussion \nAnd of course\, the now-famous cookies\, baked with love by Marnix Verkammen! \nWe look forward to seeing you\, and having a coffee together!
URL:https://espace.epfl.ch/event/horizon-europe-esa-funding-opportunities-for-space/
CATEGORIES:Conference
ATTACH;FMTTYPE=image/png:https://espace.epfl.ch/wp-content/uploads/2026/04/horizonESA.png
END:VEVENT
BEGIN:VEVENT
DTSTART;VALUE=DATE:20270628
DTEND;VALUE=DATE:20270703
DTSTAMP:20260426T045645
CREATED:20260304T083340Z
LAST-MODIFIED:20260304T083340Z
UID:10000213-1814140800-1814572799@espace.epfl.ch
SUMMARY:EUCASS 2027
DESCRIPTION:The main objective of this SSH Coffee is to announce the student projects that we will offer for the upcoming spring semester. \nAgenda:\n12:30 – Welcome\, coffee\, cookies & networking13:00 – Summary of recent events and news about space sustainability (MCV2025\, EcoDeltaV spinoff)13:15 –  Announcement of open student projects for spring (semester projects\, master’s theses\, industry internships)13:45 – Q&A and open discussion \nAnd of course\, the now-famous cookies\, baked with love by Marnix Verkammen! \nWe look forward to seeing you\, and having a coffee together!
URL:https://espace.epfl.ch/event/eucass-2027/
LOCATION:Scottish Event Campus\,Glasgow\, Scottish Event Campus\, Glasgow\, United Kingdom
CATEGORIES:Conference
ATTACH;FMTTYPE=image/jpeg:https://espace.epfl.ch/wp-content/uploads/2026/03/eucass27.jpg
END:VEVENT
END:VCALENDAR