BEGIN:VCALENDAR
VERSION:2.0
PRODID:-//eSpace - EPFL Space Center - ECPv6.15.20//NONSGML v1.0//EN
CALSCALE:GREGORIAN
METHOD:PUBLISH
X-ORIGINAL-URL:https://espace.epfl.ch
X-WR-CALDESC:Events for eSpace - EPFL Space Center
REFRESH-INTERVAL;VALUE=DURATION:PT1H
X-Robots-Tag:noindex
X-PUBLISHED-TTL:PT1H
BEGIN:VTIMEZONE
TZID:Europe/Zurich
BEGIN:DAYLIGHT
TZOFFSETFROM:+0100
TZOFFSETTO:+0200
TZNAME:CEST
DTSTART:20210328T010000
END:DAYLIGHT
BEGIN:STANDARD
TZOFFSETFROM:+0200
TZOFFSETTO:+0100
TZNAME:CET
DTSTART:20211031T010000
END:STANDARD
BEGIN:DAYLIGHT
TZOFFSETFROM:+0100
TZOFFSETTO:+0200
TZNAME:CEST
DTSTART:20220327T010000
END:DAYLIGHT
BEGIN:STANDARD
TZOFFSETFROM:+0200
TZOFFSETTO:+0100
TZNAME:CET
DTSTART:20221030T010000
END:STANDARD
BEGIN:DAYLIGHT
TZOFFSETFROM:+0100
TZOFFSETTO:+0200
TZNAME:CEST
DTSTART:20230326T010000
END:DAYLIGHT
BEGIN:STANDARD
TZOFFSETFROM:+0200
TZOFFSETTO:+0100
TZNAME:CET
DTSTART:20231029T010000
END:STANDARD
END:VTIMEZONE
BEGIN:VEVENT
DTSTART;TZID=Europe/Zurich:20220411T120000
DTEND;TZID=Europe/Zurich:20220411T130000
DTSTAMP:20260423T072103
CREATED:20220314T175244Z
LAST-MODIFIED:20220628T143001Z
UID:10000089-1649678400-1649682000@espace.epfl.ch
SUMMARY:eSpace Seminar - Space Robots: The Frontiers of Exploration\, by Shreya Santra
DESCRIPTION:The Advanced Space Concept Lab (SacLab) is affiliated with the Department of Aerospace Vehicles Design and Control (DCAS) at ISAE-SUPAERO. It has a diverse spectrum of expertise including system architecture and engineering\, mission analysis and optimization\, human factors or robotics\, to answer key questions on multiple areas: in-orbit servicing for telecommunication satellites\, in-space structural assembly & 3D printing\, Active Debris Removal\, architecture of manned space stations (Moon and Mars)\, space weather\, architecture of new space transport systems (reuse\, concepts integrating innovative space propulsion systems); architecture\, design\, economics\, and even the law\, along with other disciplines not directly related to the aerospace field are also at the heart of these issues. \nThe laboratory aims to become the leading specialized\, world renowned laboratory in Europe for research on future space systems. \n\n	\n\n\n	\n		\n	Stéphanie Lizy-Destrez is Associate Professor at ISAE-SUPAERO (Toulouse\, France)\, head of the SaCLaB (Space Advanced Concepts Laboratory). She is conducting research in human and robotics space exploration (mission analysis\, non-keplerian dynamics\, trajectory optimization\, space systems resilience and autonomy and human factors). She is also leading researches on space debris recycling.
URL:https://espace.epfl.ch/event/espace-seminar-space-robots-the-frontiers-of-exploration-by-shreya-santra/
LOCATION:ZOOM
ATTACH;FMTTYPE=image/jpeg:https://espace.epfl.ch/wp-content/uploads/2022/03/Shreya-1.jpg
END:VEVENT
END:VCALENDAR