BEGIN:VCALENDAR
VERSION:2.0
PRODID:-//eSpace - EPFL Space Center - ECPv6.15.20//NONSGML v1.0//EN
CALSCALE:GREGORIAN
METHOD:PUBLISH
X-ORIGINAL-URL:https://espace.epfl.ch
X-WR-CALDESC:Events for eSpace - EPFL Space Center
REFRESH-INTERVAL;VALUE=DURATION:PT1H
X-Robots-Tag:noindex
X-PUBLISHED-TTL:PT1H
BEGIN:VTIMEZONE
TZID:Europe/Zurich
BEGIN:DAYLIGHT
TZOFFSETFROM:+0100
TZOFFSETTO:+0200
TZNAME:CEST
DTSTART:20240331T010000
END:DAYLIGHT
BEGIN:STANDARD
TZOFFSETFROM:+0200
TZOFFSETTO:+0100
TZNAME:CET
DTSTART:20241027T010000
END:STANDARD
BEGIN:DAYLIGHT
TZOFFSETFROM:+0100
TZOFFSETTO:+0200
TZNAME:CEST
DTSTART:20250330T010000
END:DAYLIGHT
BEGIN:STANDARD
TZOFFSETFROM:+0200
TZOFFSETTO:+0100
TZNAME:CET
DTSTART:20251026T010000
END:STANDARD
BEGIN:DAYLIGHT
TZOFFSETFROM:+0100
TZOFFSETTO:+0200
TZNAME:CEST
DTSTART:20260329T010000
END:DAYLIGHT
BEGIN:STANDARD
TZOFFSETFROM:+0200
TZOFFSETTO:+0100
TZNAME:CET
DTSTART:20261025T010000
END:STANDARD
END:VTIMEZONE
BEGIN:VEVENT
DTSTART;TZID=Europe/Zurich:20250313T200000
DTEND;TZID=Europe/Zurich:20250313T210000
DTSTAMP:20260424T174056
CREATED:20250307T080056Z
LAST-MODIFIED:20250312T134918Z
UID:10000191-1741896000-1741899600@espace.epfl.ch
SUMMARY:La durabilité spatiale – état des lieux et projets en cours à l’EPFL
DESCRIPTION:Pas un jour ne passe sans que nous utilisions les données spatiales : navigation\, prévisions météo\, et de plus en plus télécommunications\, surveillance\, observation du climat. Depuis quelques années\, l’accès à l’espace est de moins en moins cher\, le nombre de lancements et de satellites en orbite augmente de façon exponentiel. Avec cela\, les risques de collisions et explosions en orbite doivent être anticipés et gérés. Toutes ces activités induisent aussi plus d’impacts sur Terre\, y compris sur le dérèglement climatique.\nEn Août 2024\, un satellite de la constellation Starlink s’est désintégré après être réentré dans l’atmosphère après seulement 3 ans de vie\, et a été visible depuis le sol en Suisse. Cet exemple pose des questions sur la congestion des orbites terrestres\, les stratégies pour réduire les risques de débris spatiaux\, et les impacts (atmosphériques) du secteur spatial.\nLe centre spatial de l’EPFL conduit plusieurs projets couvrant la problématique des débris\, et des impacts environnementaux du secteur. Pour unifier les efforts du centre dans ce thème\, le Sustainable Space Hub (SSH) a été créer en 2023. Le hub connecte des projets individuels autour de trois piliers : mesurer\, comprendre\, agir. Cela inclut des projets d’analyse cycle de vie et éco-conception des futures systèmes spatiaux\, d’observation et caractérisation de la population des débris\, ou de soutien aux missions d’enlèvement de débris (active débris removal). Le centre mène aussi plusieurs initiatives\, par exemple pour un ciel non pollué pour les astronomes (dark and quiet skies)\, et conseille les politiques sur le sujet.\nAyant grandi à Villeneuve et avec de la famille originaire de Monthey\, Mathieu Udriot est très lié à la région du Chablais. Il est ingénieur systèmes au Space Center de l’EPFL depuis la fin de sa thèse de master à l’EPFL et participe activement à des projets de recherche pour l’ESA\, développant des outils logiciels pour une logistique spatiale durable. Il contribue également aux efforts éducatifs du Centre\, en enseignant l’ingénierie spatiale au niveau master et en dispensant des formations sur la durabilité de l’espace à des professionnels.\nEn dehors de ses engagements professionnels\, Mathieu est un des points de contact nationaux pour le Space Generation Advisory Council (SGAC) et est pompier volontaire.
URL:https://espace.epfl.ch/event/la-durabilite-spatiale-etat-des-lieux-et-projets-en-cours-a-lepfl/
LOCATION:Business School And Culture Générale De Monthey\, salle des Combles\, Av. de France 4\, Monthey\, Valais\, 1870\, Switzerland
CATEGORIES:Conference
ATTACH;FMTTYPE=image/jpeg:https://espace.epfl.ch/wp-content/uploads/2025/03/conf_Udriot_13mars_25-1086x1536-1.jpg
END:VEVENT
END:VCALENDAR