BEGIN:VCALENDAR
VERSION:2.0
PRODID:-//eSpace - EPFL Space Center - ECPv6.15.20//NONSGML v1.0//EN
CALSCALE:GREGORIAN
METHOD:PUBLISH
X-ORIGINAL-URL:https://espace.epfl.ch
X-WR-CALDESC:Events for eSpace - EPFL Space Center
REFRESH-INTERVAL;VALUE=DURATION:PT1H
X-Robots-Tag:noindex
X-PUBLISHED-TTL:PT1H
BEGIN:VTIMEZONE
TZID:Europe/Zurich
BEGIN:DAYLIGHT
TZOFFSETFROM:+0100
TZOFFSETTO:+0200
TZNAME:CEST
DTSTART:20210328T010000
END:DAYLIGHT
BEGIN:STANDARD
TZOFFSETFROM:+0200
TZOFFSETTO:+0100
TZNAME:CET
DTSTART:20211031T010000
END:STANDARD
BEGIN:DAYLIGHT
TZOFFSETFROM:+0100
TZOFFSETTO:+0200
TZNAME:CEST
DTSTART:20220327T010000
END:DAYLIGHT
BEGIN:STANDARD
TZOFFSETFROM:+0200
TZOFFSETTO:+0100
TZNAME:CET
DTSTART:20221030T010000
END:STANDARD
BEGIN:DAYLIGHT
TZOFFSETFROM:+0100
TZOFFSETTO:+0200
TZNAME:CEST
DTSTART:20230326T010000
END:DAYLIGHT
BEGIN:STANDARD
TZOFFSETFROM:+0200
TZOFFSETTO:+0100
TZNAME:CET
DTSTART:20231029T010000
END:STANDARD
BEGIN:DAYLIGHT
TZOFFSETFROM:+0100
TZOFFSETTO:+0200
TZNAME:CEST
DTSTART:20240331T010000
END:DAYLIGHT
BEGIN:STANDARD
TZOFFSETFROM:+0200
TZOFFSETTO:+0100
TZNAME:CET
DTSTART:20241027T010000
END:STANDARD
BEGIN:DAYLIGHT
TZOFFSETFROM:+0100
TZOFFSETTO:+0200
TZNAME:CEST
DTSTART:20250330T010000
END:DAYLIGHT
BEGIN:STANDARD
TZOFFSETFROM:+0200
TZOFFSETTO:+0100
TZNAME:CET
DTSTART:20251026T010000
END:STANDARD
END:VTIMEZONE
BEGIN:VEVENT
DTSTART;VALUE=DATE:20241109
DTEND;VALUE=DATE:20241111
DTSTAMP:20260422T003342
CREATED:20240710T140932Z
LAST-MODIFIED:20240710T141617Z
UID:10000167-1731110400-1731283199@espace.epfl.ch
SUMMARY:EPFL Scientastic 2024
DESCRIPTION:Scientastic sera de retour sur le campus lausannois les 9 et 10 novembre 2024 ! \nNe manquez pas cette nouvelle édition qui vous réservera bien des surprises ! \nAlors à vos agendas ! \nScientastic\, c’est: \n\nLa découverte des sciences et des technologies au cœur du campus\, pour les adultes et les enfants.\nDes rencontres avec les scientifiques et chercheurs qui inventent le monde de demain.\nL’occasion de comprendre l’impact des sciences et des technologies sur notre quotidien.\n\n			\n							More Info
URL:https://espace.epfl.ch/event/scientastic-2024/
LOCATION:EPFL AVP SAO SPS\, Bâtiment GA\, 2ème étage\, Station 5\, Lausanne\, Vaud\, 1015\, Switzerland
CATEGORIES:Conference
ATTACH;FMTTYPE=image/jpeg:https://espace.epfl.ch/wp-content/uploads/2024/07/Mosaique_affiches2015-2023-1920x1080-1.jpg
END:VEVENT
BEGIN:VEVENT
DTSTART;TZID=Europe/Zurich:20220330T090000
DTEND;TZID=Europe/Zurich:20220330T170000
DTSTAMP:20260422T003342
CREATED:20220307T150910Z
LAST-MODIFIED:20220329T181800Z
UID:10000087-1648630800-1648659600@espace.epfl.ch
SUMMARY:Space Day @ EPFL - A journey through space on campus
DESCRIPTION:The Swiss Academy of Engineering Sciences (SATW) and its partners present Space Week! Join us to discover Switzerland the space nation. \nThe global space industry is booming. Half a century after the first space race that led mankind to set foot on the Moon\, new public and private actors are redoubling their efforts to explore\, understand and use space. This new era opens up tremendous opportunities\, but it also presents many challenges. \nHow does space contribute to improving our life on Earth and achieving the Sustainable Development Goals (SDGs)? What role does Switzerland play? Find out from March 28 to April 1 during Space Week. \n	EPFL Space Day\n	A journey through space on campus\n	EPFL associations and research laboratories working in the field of space will introduce themselves to the EPFL community during a day of conferences and workshops. Discover the current projects\, career opportunities and actors in this exciting field. \nFor organisational purposes\, register below if you will attend the event live on campus. We are looking forward to seeing on site with us! \nFor those who really absolutely cannot make it in person\, a Zoom link is available down below in the details section. \n			\n							REGISTER HERE\n		\n	\n					Programme\n				\n		\n			\n								\n					\n						09:00 – 09:05: Intro\n												\n					\n				\n								\n					\n						09:05 – 09:20: Featured Startup: Coactum\n												\n					\n				\n								\n					\n						09:20 – 09:40: Large-format Photon-counting Cameras\n												\n					\n				\n								\n					\n						09:40 – 10:00: Student Association: EPFL ROCKET TEAM\n												\n					\n				\n								\n					\n						10:00 – 10:10: Working with ESA: ESA-EPFL Frame Contract for Laboratory Support\n												\n					\n				\n								\n					\n						10:10 – 10:20: Featured Startup: Astrocast – Taking IoT Further\n												\n					\n				\n								\n					\n						10:20 – 10:25: Featured organisation: Space Generation Advisory Council (SGAC)\n												\n					\n				\n								\n					\n						10:25 – 10:35: BREAK\n												\n					\n				\n								\n					\n						10:35 – 10:50: Student Association: XPLORE\n												\n					\n				\n								\n					\n						10:50 – 11:10: eSpace activities\n												\n					\n				\n								\n					\n						11:10 – 11:30: Student Association: EPFL Spacecraft Team\n												\n					\n				\n								\n					\n						11:30 – 11:50: Design for demise: Complementary composite concepts for spacecraft structural panels	\n												\n					\n				\n								\n					\n						11:50 – 12:10: Student Association: Asclepios\n												\n					\n				\n								\n					\n						12:10 – 12:30: Networking break & posters presentation	\n												\n					\n				\n								\n					\n						12:30 – 13:30: Lunch Time\n												\n					\n				\n							\n		\n					\n												09:00 – 09:05: Intro\n											\n					Presented by Martine Harmel \nSpace Innovation \n					\n												09:05 – 09:20: Featured Startup: Coactum\n											\n					Presented by Pau Molas-Roca\, CEO \nCoactum \n					\n												09:20 – 09:40: Large-format Photon-counting Cameras\n											\n					Presented by Prof. Edoardo Charbon \n					\n												09:40 – 10:00: Student Association: EPFL ROCKET TEAM\n											\n					EPFL Rocket Team \n					\n												10:00 – 10:10: Working with ESA: ESA-EPFL Frame Contract for Laboratory Support\n											\n					Presented by Gilles Feusier \n					\n												10:10 – 10:20: Featured Startup: Astrocast – Taking IoT Further\n											\n					Presented by Louis Masson \n					\n												10:20 – 10:25: Featured organisation: Space Generation Advisory Council (SGAC)\n											\n					Presented by Louis Masson \n					\n												10:25 – 10:35: BREAK\n											\n					  \n					\n												10:35 – 10:50: Student Association: XPLORE\n											\n					EPFL Xplore  \n					\n												10:50 – 11:10: eSpace activities\n											\n					Presented by Prof. Jean-Paul Kneib \n					\n												11:10 – 11:30: Student Association: EPFL Spacecraft Team\n											\n					EPFL Spacecraft Team \n					\n												11:30 – 11:50: Design for demise: Complementary composite concepts for spacecraft structural panels	\n											\n					Presented by Alexandre Looten \nAlexandre Looten studied Materials Science and Engineering at the Swiss Federal Institute of Technology in Lausanne and graduated in 2019 with a minor in space technologies. January 2020\, he started a Ph.D. at EPFL in collaboration with the European Space Agency in the Laboratory for Processing of Advanced Composites (LPAC) where he is working in the field of design for demise applied to spacecraft structure. \n					\n												11:50 – 12:10: Student Association: Asclepios\n											\n					Asclepios  \n					\n												12:10 – 12:30: Networking break & posters presentation	\n											\n					\n												12:30 – 13:30: Lunch Time\n											\n					\n	\n		\n			\n								\n					\n						13:30 – 13:50: ADRIOS – Capture System Technologies\n												\n					\n				\n								\n					\n						13:50 – 14:10: ADRIOS – Relative Navigation Technologies\n												\n					\n				\n								\n					\n						14:10 – 14:20: Student Association: Callista\n												\n					\n				\n								\n					\n						14:20 – 14:30: BREAK\n												\n					\n				\n								\n					\n						14:30 – 14:50: Student Association: SSA – Studying space biggest problem\n												\n					\n				\n								\n					\n						14:50 – 15:10: Learning Programming with Rocket Science\n												\n					\n				\n								\n					\n						15:10 – 15:30: Student Association: Space@Your Service\n												\n					\n				\n								\n					\n						15:30 – 15:50: Modular Origami Robots: Folding Space\n												\n					\n				\n								\n					\n						15:50 – 16:00: Close out \n												\n					\n				\n								\n					\n						16:00 – 17:00: Networking & posters presentation	\n												\n					\n				\n							\n		\n					\n												13:30 – 13:50: ADRIOS – Capture System Technologies\n											\n					Presented by Mohamed Bouri and Guillaume Anciaux \n					\n												13:50 – 14:10: ADRIOS – Relative Navigation Technologies\n											\n					Part 1: Deep Learning for 6D Pose Estimation \nPresented by Mathieu Salzmann \nMathieu Salzmann is a Senior Researcher at EPFL-CVLab\, and\, since May 2020\, an Artificial Intelligence Engineer at ClearSpace (50%). Previously\, Mathieu was a Senior Researcher and Research Leader in NICTA’s computer vision research group. Prior to this\, from Sept. 2010 to Jan 2012\, he was a Research Assistant Professor at TTI-Chicago\, and\, from Feb. 2009 to Aug. 2010\, a postdoctoral fellow at ICSI and EECS at UC Berkeley under the supervision of Prof. Trevor Darrell. Mathieu obtained his PhD in Jan. 2009 from EPFL under the supervision of Prof. Pascal Fua. \nPart 2: An ensemble-based approach to improve robustness against errors in AI applications \nPresented by Flavio Ponzina \nFlavio Ponzina received the M.Sc. degree in Computer Engineering from Politecnico di Torino\, Italy\, in 2018. He is currently a PhD student at the Embedded Systems Laboratory (ESL)\, EPFL. His main research interests include low power architectures and AI-based systems optimization. \n					\n												14:10 – 14:20: Student Association: Callista\n											\n					Callista \n					\n												14:20 – 14:30: BREAK\n											\n					\n												14:30 – 14:50: Student Association: SSA – Studying space biggest problem\n											\n					SSA \n					\n												14:50 – 15:10: Learning Programming with Rocket Science\n											\n					Presented by Anatolii Kmetiuk  \n					\n												15:10 – 15:30: Student Association: Space@Your Service\n											\n					Space@Your Service \n					\n												15:30 – 15:50: Modular Origami Robots: Folding Space\n											\n					Presented by Kevin Holdcroft \n					\n												15:50 – 16:00: Close out \n											\n					Presented by Martine Harmel \nSpace Innovation \n					\n												16:00 – 17:00: Networking & posters presentation	\n											\n					BC 430 \n					\n	\n	For organisational purposes\, register below if you will attend the event live on campus. We are looking forward to seeing on site with us! \nFor those who really absolutely cannot make it in person\, a Zoom link is available down below in the details section.
URL:https://espace.epfl.ch/event/space-journey-at-epfl/
LOCATION:EPFL BC 420\, BC Bulding\, Rue Jean-Daniel-Colladon\, Lausanne\, Vaud\, 1015\, Switzerland
ATTACH;FMTTYPE=image/jpeg:https://espace.epfl.ch/wp-content/uploads/2022/03/Swiss_Space_Week_2022_Space_Day_ENG.jpg
END:VEVENT
BEGIN:VEVENT
DTSTART;TZID=Europe/Zurich:20220329T180000
DTEND;TZID=Europe/Zurich:20220329T203000
DTSTAMP:20260422T003342
CREATED:20220301T171626Z
LAST-MODIFIED:20220311T215530Z
UID:10000086-1648576800-1648585800@espace.epfl.ch
SUMMARY:Swiss Space Week @ EPFL - Conférence Publique « Espace et Durabilité » (FR)
DESCRIPTION:La SATW et ses partenaires vous proposent une semaine spéciale consacrée à l’espace. Rejoignez-nous pour découvrir les acteurs qui contribuent à faire de la Suisse une nation spatiale. \nL’industrie spatiale mondiale est en plein essor. Un demi-siècle après la première course à l’espace qui avait conduit l’Humanité à poser le pied sur la Lune\, de nouveaux acteurs publics et privés redoublent d’énergie et d’innovation pour explorer\, comprendre et utiliser l’espace. Cette nouvelle ère ouvre de formidables opportunités mais annonce également de nombreux défis. \nComment l’espace contribue-t-il à améliorer notre vie sur Terre et à réaliser les objectifs du développement durable (ODD) ? Quel rôle joue la Suisse ? Découvrez-le du 28 mars au 1er avril. \n	L’espace au service de la vie sur Terre\n	L’industrie spatiale mondiale est en plein essor. Un demi-siècle après la première course à l’espace qui avait conduit l’Humanité à poser le pied sur la Lune\, de nouveaux acteurs publics et privés redoublent d’énergie et d’innovation pour explorer\, comprendre et utiliser l’espace. Cette nouvelle ère ouvre de formidables opportunités mais annonce également de nombreux défis. \nComment l’espace contribue-t-il à améliorer notre vie sur Terre\, à protéger l’environnement et à réaliser les objectifs du développement durable (ODD)? Quel rôle joue la Suisse? \nRejoignez-nous pour une conférence de Claude Nicollier\, suivie d’une table ronde avec des acteurs de la recherche\, de l’entrepreneuriat et de l’industrie. \n	Au programme:\n18 :00 –  Mot de bienvenue \n18 :15 – Keynote de Claude Nicollier \n19 :00 – Table ronde avec des acteurs du spatial \n\nGaëtan Petit\, Space4Impact\nMarie-Valentine Florin\, EPFL IRGC\nFabien Droz\, CSEM\nFederico Belloni\, Astrocast\n\n20 :00 – Apéritif – Expo \nModération de la soirée par Galactic Chloé. \nL’événement est gratuit mais le nombre de places limité. Réservez déjà votre place! \n			\n							S’inscrire
URL:https://espace.epfl.ch/event/swiss-space-week-epfl-conference-publique-espace-et-durabilite-fr/
LOCATION:Rolex Learning Center\, RLC E1 240\, EPFL Route Cantonale\, Lausanne\, Vaud\, 1015\, Switzerland
ATTACH;FMTTYPE=image/jpeg:https://espace.epfl.ch/wp-content/uploads/2022/03/Swiss_Space_Week_2022_Confe╠urence_publique_Espace_durabilite╠uOC.jpg
END:VEVENT
BEGIN:VEVENT
DTSTART;TZID=Europe/Zurich:20220329T083000
DTEND;TZID=Europe/Zurich:20220329T151500
DTSTAMP:20260422T003342
CREATED:20220301T164621Z
LAST-MODIFIED:20220301T165802Z
UID:10000085-1648542600-1648566900@espace.epfl.ch
SUMMARY:Swiss Space Week @ EPFL-  Ateliers Scientifiques (FR)
DESCRIPTION:La SATW et ses partenaires vous proposent une semaine spéciale consacrée à l’espace. Rejoignez-nous pour découvrir les acteurs qui contribuent à faire de la Suisse une nation spatiale. \nL’industrie spatiale mondiale est en plein essor. Un demi-siècle après la première course à l’espace qui avait conduit l’Humanité à poser le pied sur la Lune\, de nouveaux acteurs publics et privés redoublent d’énergie et d’innovation pour explorer\, comprendre et utiliser l’espace. Cette nouvelle ère ouvre de formidables opportunités mais annonce également de nombreux défis. \nComment l’espace contribue-t-il à améliorer notre vie sur Terre et à réaliser les objectifs du développement durable (ODD) ? Quel rôle joue la Suisse ? Découvrez-le du 28 mars au 1er avril. \n	29.03.2022 – Ateliers scientifiques: la science en orbite\n	Le Service de promotion de sciences (SPS) de l’EPFL propose un programme de deux périodes scolaires aux classes du secondaires I. Ce programme sera constitué d’un atelier d’astronomie “Mystère dans le ciel” et de l’atelier ” Visite de la Station Spatiale Internationale” proposé par Space Innovation.
URL:https://espace.epfl.ch/event/swiss-space-week-epfl-ateliers-scientifiques-fr/
LOCATION:EPFL\, Batiment GA\, Avenue François-Alfonse-Forel\, Lausanne\, Vaud\, 1015\, Switzerland
ATTACH;FMTTYPE=image/jpeg:https://espace.epfl.ch/wp-content/uploads/2022/03/Swiss_Space_Week_2022_Ateliers_Science_Orbite.jpg
END:VEVENT
END:VCALENDAR