BEGIN:VCALENDAR
VERSION:2.0
PRODID:-//eSpace - EPFL Space Center - ECPv6.15.20//NONSGML v1.0//EN
CALSCALE:GREGORIAN
METHOD:PUBLISH
X-WR-CALNAME:eSpace - EPFL Space Center
X-ORIGINAL-URL:https://espace.epfl.ch
X-WR-CALDESC:Events for eSpace - EPFL Space Center
REFRESH-INTERVAL;VALUE=DURATION:PT1H
X-Robots-Tag:noindex
X-PUBLISHED-TTL:PT1H
BEGIN:VTIMEZONE
TZID:Europe/Zurich
BEGIN:DAYLIGHT
TZOFFSETFROM:+0100
TZOFFSETTO:+0200
TZNAME:CEST
DTSTART:20190331T010000
END:DAYLIGHT
BEGIN:STANDARD
TZOFFSETFROM:+0200
TZOFFSETTO:+0100
TZNAME:CET
DTSTART:20191027T010000
END:STANDARD
BEGIN:DAYLIGHT
TZOFFSETFROM:+0100
TZOFFSETTO:+0200
TZNAME:CEST
DTSTART:20200329T010000
END:DAYLIGHT
BEGIN:STANDARD
TZOFFSETFROM:+0200
TZOFFSETTO:+0100
TZNAME:CET
DTSTART:20201025T010000
END:STANDARD
BEGIN:DAYLIGHT
TZOFFSETFROM:+0100
TZOFFSETTO:+0200
TZNAME:CEST
DTSTART:20210328T010000
END:DAYLIGHT
BEGIN:STANDARD
TZOFFSETFROM:+0200
TZOFFSETTO:+0100
TZNAME:CET
DTSTART:20211031T010000
END:STANDARD
END:VTIMEZONE
BEGIN:VEVENT
DTSTART;TZID=Europe/Zurich:20201123T130000
DTEND;TZID=Europe/Zurich:20201123T140000
DTSTAMP:20260426T004919
CREATED:20201027T131409Z
LAST-MODIFIED:20241021T135526Z
UID:10000054-1606136400-1606140000@espace.epfl.ch
SUMMARY:eSpace Webinar - Radio frequencies in outer space : framework for an international cooperation\, by Alexandre Vallet
DESCRIPTION:Almost all satellites are using radio frequencies. Since there is no national sovereignty in outer space\, the management of radio spectrum essentially relies on an international treaty called the Radio Regulations\, which is elaborated by the International Telecommunication Union\, the UN specialized agency for ICTs. Since 1906\, this treaty is regularly updated by ITU Member States to cope with the advance of radio technologies through an cooperative process of technical and regulatory studies. The presentation will first introduce the international framework for regulating the use the radio frequencies. It will then focus on the specific case of Cubesats with a presentation of the process to get access to radio frequencies for a Cubesat project. \nAlexandre Vallet is the current Chief of the Space Services Department in the Radiocommunication Bureau of the International Telecommunication Union (ITU)\, since November 2017. Alexandre Vallet began to work in 2000 in the R&D center of Orange dealing with communications satellites. In 2006\, he joined the satellite operator Eutelsat where he was in charge of regulatory matters. From 2007 to 2017\, he was the Head of the Regulatory affairs and Spectrum/Orbit Resources Department at the French Agency in charge of radio spectrum management (Agence Nationale des Fréquences – ANFR).
URL:https://espace.epfl.ch/event/espace-webinar-radio-frequencies-in-outer-space-framework-for-an-international-cooperation-by-alexandre-vallet/
LOCATION:ZOOM
ATTACH;FMTTYPE=image/jpeg:https://espace.epfl.ch/wp-content/uploads/2024/10/vallet.jpg
END:VEVENT
END:VCALENDAR