BEGIN:VCALENDAR
VERSION:2.0
PRODID:-//eSpace - EPFL Space Center - ECPv6.15.20//NONSGML v1.0//EN
CALSCALE:GREGORIAN
METHOD:PUBLISH
X-WR-CALNAME:eSpace - EPFL Space Center
X-ORIGINAL-URL:https://espace.epfl.ch
X-WR-CALDESC:Events for eSpace - EPFL Space Center
REFRESH-INTERVAL;VALUE=DURATION:PT1H
X-Robots-Tag:noindex
X-PUBLISHED-TTL:PT1H
BEGIN:VTIMEZONE
TZID:Europe/Zurich
BEGIN:DAYLIGHT
TZOFFSETFROM:+0100
TZOFFSETTO:+0200
TZNAME:CEST
DTSTART:20230326T010000
END:DAYLIGHT
BEGIN:STANDARD
TZOFFSETFROM:+0200
TZOFFSETTO:+0100
TZNAME:CET
DTSTART:20231029T010000
END:STANDARD
BEGIN:DAYLIGHT
TZOFFSETFROM:+0100
TZOFFSETTO:+0200
TZNAME:CEST
DTSTART:20240331T010000
END:DAYLIGHT
BEGIN:STANDARD
TZOFFSETFROM:+0200
TZOFFSETTO:+0100
TZNAME:CET
DTSTART:20241027T010000
END:STANDARD
BEGIN:DAYLIGHT
TZOFFSETFROM:+0100
TZOFFSETTO:+0200
TZNAME:CEST
DTSTART:20250330T010000
END:DAYLIGHT
BEGIN:STANDARD
TZOFFSETFROM:+0200
TZOFFSETTO:+0100
TZNAME:CET
DTSTART:20251026T010000
END:STANDARD
END:VTIMEZONE
BEGIN:VEVENT
DTSTART;TZID=Europe/Zurich:20240412T151500
DTEND;TZID=Europe/Zurich:20240412T193000
DTSTAMP:20260422T072457
CREATED:20240410T122047Z
LAST-MODIFIED:20240410T122442Z
UID:10000154-1712934900-1712950200@espace.epfl.ch
SUMMARY:The Future of Near-Earth Space. Space Debris and Space Sustainability
DESCRIPTION:The conference will be held in English at Istituto Svizzero in Rome and online. Free entrance. \nIstituto Svizzero invites experts from different fields and institutions to a one-day symposium where they share and discuss their professional outlooks on near-Earth space’s potential development until 2050. The goal of the symposium is not only to get scholars from different fields into conversation with each other but also to get more disciplines involved and to translate expert knowledge into public awareness. \nManaging the Future of near-Earth Space \nThere are many different actors concerned with the future of near-Earth space. This panel presents different approaches to how the pollution beyond the atmosphere might be brought under control. It discusses the possibilities of active debris removal\, how international dialogue on near-Earth space can be fostered across geopolitical tensions\, and how satellite operators might be moved towards greater sustainability. \n			\n							More info and register
URL:https://espace.epfl.ch/event/the-future-of-near-earth-space-space-debris-and-space-sustainability/
LOCATION:Istituto Svizzero\, Via Liguria 20\, Rome\, Italy
CATEGORIES:Conference,Symposium
ATTACH;FMTTYPE=image/png:https://espace.epfl.ch/wp-content/uploads/2024/04/ESA1.png
END:VEVENT
END:VCALENDAR