BEGIN:VCALENDAR
VERSION:2.0
PRODID:-//eSpace - EPFL Space Center - ECPv6.15.20//NONSGML v1.0//EN
CALSCALE:GREGORIAN
METHOD:PUBLISH
X-WR-CALNAME:eSpace - EPFL Space Center
X-ORIGINAL-URL:https://espace.epfl.ch
X-WR-CALDESC:Events for eSpace - EPFL Space Center
REFRESH-INTERVAL;VALUE=DURATION:PT1H
X-Robots-Tag:noindex
X-PUBLISHED-TTL:PT1H
BEGIN:VTIMEZONE
TZID:Europe/Zurich
BEGIN:DAYLIGHT
TZOFFSETFROM:+0100
TZOFFSETTO:+0200
TZNAME:CEST
DTSTART:20220327T010000
END:DAYLIGHT
BEGIN:STANDARD
TZOFFSETFROM:+0200
TZOFFSETTO:+0100
TZNAME:CET
DTSTART:20221030T010000
END:STANDARD
BEGIN:DAYLIGHT
TZOFFSETFROM:+0100
TZOFFSETTO:+0200
TZNAME:CEST
DTSTART:20230326T010000
END:DAYLIGHT
BEGIN:STANDARD
TZOFFSETFROM:+0200
TZOFFSETTO:+0100
TZNAME:CET
DTSTART:20231029T010000
END:STANDARD
BEGIN:DAYLIGHT
TZOFFSETFROM:+0100
TZOFFSETTO:+0200
TZNAME:CEST
DTSTART:20240331T010000
END:DAYLIGHT
BEGIN:STANDARD
TZOFFSETFROM:+0200
TZOFFSETTO:+0100
TZNAME:CET
DTSTART:20241027T010000
END:STANDARD
END:VTIMEZONE
BEGIN:VEVENT
DTSTART;TZID=Europe/Zurich:20230405T143000
DTEND;TZID=Europe/Zurich:20230405T153000
DTSTAMP:20260420T193641
CREATED:20230331T100754Z
LAST-MODIFIED:20230331T101157Z
UID:10000122-1680705000-1680708600@espace.epfl.ch
SUMMARY:Spaceport SARABHAI - Space Law + Policy Dialogue #4: Orbital Debris Remediation
DESCRIPTION:Spaceport SARABHAI (S2) to co-host edition#4 of its Space Law + Policy Dialogue with the eSpace – EPFL Space Center\, Switzerland on 5th April 2023. The goal of the ongoing series of S2 Space Law + Policy Dialogues is to look at contemporary space activities through a space law + policy lens and strengthen international cooperation through exchange of ideas and perspectives. The 4th edition will focus on how to keep outer space safe and sustainable for the benefit of all humanity. The panel will discuss the current state and challenges\, in terms of technology\, regulations and economy. They will propose actions necessary for removal of existing debris and mitigation of future debris. \n	Moderator:\nMarie Valentine Florin\, Executive Director\, EPFL International Risk Governance Center (IRGC)\nPanelists:\n● Romain Buchs\, Space Policy Analyst\, ClearSpace\, Switzerland\n● Emmanuelle David\, Executive Director\, EPFL Space Center (eSpace)\n● Ashok G.V. \, Partner\, Factum Law\, India\n● Shreyas Mirji\, Head\, Business and Strategy\, Digantara\, India\n			\n							REGISTER
URL:https://espace.epfl.ch/event/spaceport-sarabhai-space-law-policy-dialogue-4-orbital-debris-remediation/
LOCATION:ZOOM
CATEGORIES:Webinar
ATTACH;FMTTYPE=image/jpeg:https://espace.epfl.ch/wp-content/uploads/2023/03/spaceport-sarab.jpg
END:VEVENT
END:VCALENDAR