BEGIN:VCALENDAR
VERSION:2.0
PRODID:-//eSpace - EPFL Space Center - ECPv6.15.20//NONSGML v1.0//EN
CALSCALE:GREGORIAN
METHOD:PUBLISH
X-ORIGINAL-URL:https://espace.epfl.ch
X-WR-CALDESC:Events for eSpace - EPFL Space Center
REFRESH-INTERVAL;VALUE=DURATION:PT1H
X-Robots-Tag:noindex
X-PUBLISHED-TTL:PT1H
BEGIN:VTIMEZONE
TZID:Europe/Zurich
BEGIN:DAYLIGHT
TZOFFSETFROM:+0100
TZOFFSETTO:+0200
TZNAME:CEST
DTSTART:20210328T010000
END:DAYLIGHT
BEGIN:STANDARD
TZOFFSETFROM:+0200
TZOFFSETTO:+0100
TZNAME:CET
DTSTART:20211031T010000
END:STANDARD
BEGIN:DAYLIGHT
TZOFFSETFROM:+0100
TZOFFSETTO:+0200
TZNAME:CEST
DTSTART:20220327T010000
END:DAYLIGHT
BEGIN:STANDARD
TZOFFSETFROM:+0200
TZOFFSETTO:+0100
TZNAME:CET
DTSTART:20221030T010000
END:STANDARD
BEGIN:DAYLIGHT
TZOFFSETFROM:+0100
TZOFFSETTO:+0200
TZNAME:CEST
DTSTART:20230326T010000
END:DAYLIGHT
BEGIN:STANDARD
TZOFFSETFROM:+0200
TZOFFSETTO:+0100
TZNAME:CET
DTSTART:20231029T010000
END:STANDARD
BEGIN:DAYLIGHT
TZOFFSETFROM:+0100
TZOFFSETTO:+0200
TZNAME:CEST
DTSTART:20240331T010000
END:DAYLIGHT
BEGIN:STANDARD
TZOFFSETFROM:+0200
TZOFFSETTO:+0100
TZNAME:CET
DTSTART:20241027T010000
END:STANDARD
BEGIN:DAYLIGHT
TZOFFSETFROM:+0100
TZOFFSETTO:+0200
TZNAME:CEST
DTSTART:20250330T010000
END:DAYLIGHT
BEGIN:STANDARD
TZOFFSETFROM:+0200
TZOFFSETTO:+0100
TZNAME:CET
DTSTART:20251026T010000
END:STANDARD
END:VTIMEZONE
BEGIN:VEVENT
DTSTART;VALUE=DATE:20240606
DTEND;VALUE=DATE:20240608
DTSTAMP:20260424T191815
CREATED:20240506T142022Z
LAST-MODIFIED:20240506T142022Z
UID:10000161-1717632000-1717804799@espace.epfl.ch
SUMMARY:ATD3 Workshop 2024
DESCRIPTION:This workshop is organized by the Working Group “ATD3”\, managed by ESA and CNES through the ESA Technology Directorate and the CNES Research and Technology Directorate. \nAs in all the previous editions\, this workshop will be an opportunity for research centres\, universities\, industries\, and space agencies to exchange ideas\, advance knowledge and discuss about the following topics: \n\nFrom free-molecular to continuum regime\nD4D numerical modelling and verification\nAero-thermal modelling of destructive re-entries:\n\nfragmentation\nablation\nsimulation tools and techniques\nuncertainty quantification\nre-entry ground testing\n\n\nTest Cases Collaboration Campaign:\n\ntest cases for the comparison of numerical methods and numerical rebuilding of ground tests\n\n\n\nThe format of the event will be a sequential list of presentations of about 15 minutes each\, with 5 minutes brief Q&A session per presentation. \n			\n							More info and register
URL:https://espace.epfl.ch/event/atd3-workshop-2024/
LOCATION:ESA ESTEC\, Keplerlaan 1\, Noordwijk\, 2201 AZ\, Netherlands
CATEGORIES:Workshop
ATTACH;FMTTYPE=image/png:https://espace.epfl.ch/wp-content/uploads/2024/05/Screenshot_2023-11-14_164855_per_il_sito.png
END:VEVENT
BEGIN:VEVENT
DTSTART;VALUE=DATE:20231016
DTEND;VALUE=DATE:20231021
DTSTAMP:20260424T191815
CREATED:20230907T072401Z
LAST-MODIFIED:20230907T072837Z
UID:10000133-1697414400-1697846399@espace.epfl.ch
SUMMARY:Clean Space Industry Days 2023
DESCRIPTION:The Clean Space Industry Days (CSID) 2023 is a must-attend event for all space professionals and enthusiasts working on designing and building sustainable space missions! \nThe five-day event will focus on the progress made in the fields of \n\neco-design for space\,\nend-of-life management\,\nactive debris removal and in-orbit servicing\n\nFurthermore\, the CSID will explore ways to consolidate the ESA Zero Debris approach. \n More Info   REGISTER
URL:https://espace.epfl.ch/event/clean-space-industry-days-2023/
LOCATION:ESA ESTEC\, Keplerlaan 1\, Noordwijk\, 2201 AZ\, Netherlands
CATEGORIES:Clean Space,Conference,Workshop
ATTACH;FMTTYPE=image/jpeg:https://espace.epfl.ch/wp-content/uploads/2023/09/2023-CSID-main-illustration.jpg
END:VEVENT
BEGIN:VEVENT
DTSTART;VALUE=DATE:20221010
DTEND;VALUE=DATE:20221015
DTSTAMP:20260424T191815
CREATED:20220906T091953Z
LAST-MODIFIED:20220906T092110Z
UID:10000096-1665360000-1665791999@espace.epfl.ch
SUMMARY:ESA Clean Space Industry Days 2022
DESCRIPTION:Since 2016\, ESA’s Clean Space Industry Days have become the central forum for European industry working on designing and building sustainable missions. Now more than ever\, ESA is committed to supporting activities across the European space sector that will help make a cleaner space\, both on Earth and up above. \nFrom Monday to Friday\, participants will join sessions covering topics ranging from evaluating the environmental impact of a space mission to designing spacecraft compliant with space debris mitigation requirements. \nWith its global leadership in the field of eco-design for space missions and tackling space debris\, ESA’s objective is to boost the European space actors’ competitiveness in these crucial domains. \n			\n							More info & Registration
URL:https://espace.epfl.ch/event/esa-clean-space-industry-days-2022/
LOCATION:ESA ESTEC\, Keplerlaan 1\, Noordwijk\, 2201 AZ\, Netherlands
CATEGORIES:Clean Space
ATTACH;FMTTYPE=image/jpeg:https://espace.epfl.ch/wp-content/uploads/2022/09/ESA_CleanSpace_INFOGRAPHY_JPEG.jpg
END:VEVENT
END:VCALENDAR